BEGIN:VCALENDAR
VERSION:2.0
PRODID:-//Hétéroclite - ECPv5.16.1.1//NONSGML v1.0//EN
CALSCALE:GREGORIAN
METHOD:PUBLISH
X-WR-CALNAME:Hétéroclite
X-ORIGINAL-URL:https://www.heteroclite.org
X-WR-CALDESC:évènements pour Hétéroclite
BEGIN:VTIMEZONE
TZID:Europe/Helsinki
BEGIN:DAYLIGHT
TZOFFSETFROM:+0200
TZOFFSETTO:+0300
TZNAME:EEST
DTSTART:20160327T010000
END:DAYLIGHT
BEGIN:STANDARD
TZOFFSETFROM:+0300
TZOFFSETTO:+0200
TZNAME:EET
DTSTART:20161030T010000
END:STANDARD
END:VTIMEZONE
BEGIN:VEVENT
DTSTART;TZID=Europe/Helsinki:20161015T235500
DTEND;TZID=Europe/Helsinki:20161016T053000
DTSTAMP:20260424T120732
CREATED:20150616T072342Z
LAST-MODIFIED:20161011T202537Z
UID:23715-1476575700-1476595800@www.heteroclite.org
SUMMARY:Adam Port (Keinemusik) + Dyed + Ratchet Lab @ Bellona Club
DESCRIPTION:Avec Adam Port (Keinemusik\, Allemagne)\, Dyed et Ratchet Lab\nAdam Port est le fer de lance de l’excellent label Keinemusik. Bien connu pour ses sets brûlants et uniques\, Adam nous fera le privilège de réchauffer le club le temps d’une soirée. Rare sont les passages à Lyon pour ce Dj dont les influences sont multiples\, du hip-hop\, jazz au rock en passant par les sons électroniques de Chicago et de la capitale allemande. Ses tracks Someone To Love\, Black Noise ou encore Sally sont devenus des classiques playlistés par tous les artistes house et deep house. \nAvec aussi Dyed (Lite Litch). \nAu premier étage\, carte blanche au collectif Ratchet Lab (hip-hop\, trap\, future beat & art events).
URL:https://www.heteroclite.org/evenement-heteroclite/adam-port-keinemusik-bellona-lyon
LOCATION:Le Bellona\, 100 quai Perrache\, Lyon 2\, Rhône-Alpes\, 69002\, France
END:VEVENT
END:VCALENDAR