BEGIN:VCALENDAR
VERSION:2.0
PRODID:-//Hétéroclite - ECPv5.16.1.1//NONSGML v1.0//EN
CALSCALE:GREGORIAN
METHOD:PUBLISH
X-WR-CALNAME:Hétéroclite
X-ORIGINAL-URL:https://www.heteroclite.org
X-WR-CALDESC:évènements pour Hétéroclite
BEGIN:VTIMEZONE
TZID:Europe/Helsinki
BEGIN:DAYLIGHT
TZOFFSETFROM:+0200
TZOFFSETTO:+0300
TZNAME:EEST
DTSTART:20150329T010000
END:DAYLIGHT
BEGIN:STANDARD
TZOFFSETFROM:+0300
TZOFFSETTO:+0200
TZNAME:EET
DTSTART:20151025T010000
END:STANDARD
END:VTIMEZONE
BEGIN:VEVENT
DTSTART;TZID=Europe/Helsinki:20150618T200000
DTEND;TZID=Europe/Helsinki:20150618T235500
DTSTAMP:20260419T195606
CREATED:20150604T090332Z
LAST-MODIFIED:20150604T090332Z
UID:23256-1434657600-1434671700@www.heteroclite.org
SUMMARY:Afterwork & Happy Hours @ LiveStation DIY
DESCRIPTION:Le LiveStation DIY vous accueille pour une soirée Afterwork & Happy Hours le 18 juin.\n  \nCarte blanche à Elixion Records et ses artistes pour mettre l’ambiance au Live. \nL’équipe alternera entre Tech-House et Techno\, de quoi satisfaire les passionnés !
URL:https://www.heteroclite.org/evenement-heteroclite/afterwork-happy-hours-livestation-diy
LOCATION:LiveStation-DIY\, 14 rue de Bonald\, Lyon 7\, Rhône-Alpes\, 69007\, France
END:VEVENT
END:VCALENDAR