BEGIN:VCALENDAR
VERSION:2.0
PRODID:-//Hétéroclite - ECPv5.16.1.1//NONSGML v1.0//EN
CALSCALE:GREGORIAN
METHOD:PUBLISH
X-WR-CALNAME:Hétéroclite
X-ORIGINAL-URL:https://www.heteroclite.org
X-WR-CALDESC:évènements pour Hétéroclite
BEGIN:VTIMEZONE
TZID:Europe/Helsinki
BEGIN:DAYLIGHT
TZOFFSETFROM:+0200
TZOFFSETTO:+0300
TZNAME:EEST
DTSTART:20140330T010000
END:DAYLIGHT
BEGIN:STANDARD
TZOFFSETFROM:+0300
TZOFFSETTO:+0200
TZNAME:EET
DTSTART:20141026T010000
END:STANDARD
END:VTIMEZONE
BEGIN:VEVENT
DTSTART;TZID=Europe/Helsinki:20141023T210000
DTEND;TZID=Europe/Helsinki:20141023T210000
DTSTAMP:20260421T051135
CREATED:20140707T065530Z
LAST-MODIFIED:20141017T130847Z
UID:12289-1414098000-1414098000@www.heteroclite.org
SUMMARY:Afterwork soul par Dee Jay H
DESCRIPTION:  \nAvec Dee Jay H (soul\, jazz\, funk\, deep-house…). Ouvert fin août 2012\, le LiveStation est un café-restaurant friendly avec une clientèle lesbienne et gay importante. Il accorde une grande place aux musiques électroniques et à la création artistique\, avec notamment une expo par mois.
URL:https://www.heteroclite.org/evenement-heteroclite/afterwork-soul-dee-jay-h-livestation
LOCATION:LiveStation-DIY\, 14 rue de Bonald\, Lyon 7\, Rhône-Alpes\, 69007\, France
END:VEVENT
END:VCALENDAR