BEGIN:VCALENDAR
VERSION:2.0
PRODID:-//Hétéroclite - ECPv5.16.1.1//NONSGML v1.0//EN
CALSCALE:GREGORIAN
METHOD:PUBLISH
X-WR-CALNAME:Hétéroclite
X-ORIGINAL-URL:https://www.heteroclite.org
X-WR-CALDESC:évènements pour Hétéroclite
BEGIN:VTIMEZONE
TZID:Europe/Helsinki
BEGIN:DAYLIGHT
TZOFFSETFROM:+0200
TZOFFSETTO:+0300
TZNAME:EEST
DTSTART:20180325T010000
END:DAYLIGHT
BEGIN:STANDARD
TZOFFSETFROM:+0300
TZOFFSETTO:+0200
TZNAME:EET
DTSTART:20181028T010000
END:STANDARD
END:VTIMEZONE
BEGIN:VEVENT
DTSTART;TZID=Europe/Helsinki:20180520T180000
DTEND;TZID=Europe/Helsinki:20180520T210000
DTSTAMP:20260420T141810
CREATED:20180423T115139Z
LAST-MODIFIED:20180423T115139Z
UID:50855-1526839200-1526850000@www.heteroclite.org
SUMMARY:Apéro convivial pour le Week-end Fetish-Lyon
DESCRIPTION:À l’occasion du week-end de Pentecôte\, Fetish-Lyon\, une association dont les membres sont des fétichistes de certaines matières (cuir\, latex\, néoprène\, PVC\, vinyle\, plastique\, lycra\, etc.)\, organise un ensemble d’événements.\nAprès un samedi nourrit\, l’association Fetish-Lyon vous convie à un apéro. Un rafraichissement avant le point d’orgue du week-end\, la soirée  Don’t Panic It’s Fetish Bzzz !\nC’est un moment de soutien à l’association Fétish-Lyon (les consommations sont en partie reversées à l’association) \nN’oubliez pas de réserver votre brunch pour lundi en décompression du week-end.  \nLe week-end Fetish-Lyon : www.facebook.com/events/422771288136613/
URL:https://www.heteroclite.org/evenement-heteroclite/apero-fetish-lyon-week-end
LOCATION:Centre LGBTI de Lyon\, 19 rue des Capucins\, Lyon 1\, Rhône-Alpes\, 69001\, France
END:VEVENT
END:VCALENDAR