BEGIN:VCALENDAR
VERSION:2.0
PRODID:-//Hétéroclite - ECPv5.16.1.1//NONSGML v1.0//EN
CALSCALE:GREGORIAN
METHOD:PUBLISH
X-WR-CALNAME:Hétéroclite
X-ORIGINAL-URL:https://www.heteroclite.org
X-WR-CALDESC:évènements pour Hétéroclite
BEGIN:VTIMEZONE
TZID:Europe/Helsinki
BEGIN:DAYLIGHT
TZOFFSETFROM:+0200
TZOFFSETTO:+0300
TZNAME:EEST
DTSTART:20170326T010000
END:DAYLIGHT
BEGIN:STANDARD
TZOFFSETFROM:+0300
TZOFFSETTO:+0200
TZNAME:EET
DTSTART:20171029T010000
END:STANDARD
END:VTIMEZONE
BEGIN:VEVENT
DTSTART;TZID=Europe/Helsinki:20170718T193000
DTEND;TZID=Europe/Helsinki:20170718T193000
DTSTAMP:20260420T171439
CREATED:20170619T140554Z
LAST-MODIFIED:20170619T140554Z
UID:44339-1500406200-1500406200@www.heteroclite.org
SUMMARY:Apéromix Go Bang ! Rescue invite Calling Marian
DESCRIPTION:La Bobine\, Projet Bob et Chica Chic organisent un Apéromix Go Bang ! à la Bobine le 18 juillet à partir de 19h30.\nLe rendez-vous incontournable des amoureux de musique électronique underground ! Rescue\, aux platines accompagnée de Calling Marian (résidente de La Chatte) vous donnent rendez-vous à la Bobine le 18 juillet pour un Apéromix Go Bang ! fort en techno. L’entrée est gratuite. 
URL:https://www.heteroclite.org/evenement-heteroclite/aperomix-go-bang-la-bobine
LOCATION:La Bobine\, 42 boulevard Clémenceau\, Grenoble\, Rhône-Alpes\, France
END:VEVENT
END:VCALENDAR