BEGIN:VCALENDAR
VERSION:2.0
PRODID:-//Hétéroclite - ECPv5.16.1.1//NONSGML v1.0//EN
CALSCALE:GREGORIAN
METHOD:PUBLISH
X-WR-CALNAME:Hétéroclite
X-ORIGINAL-URL:https://www.heteroclite.org
X-WR-CALDESC:évènements pour Hétéroclite
BEGIN:VTIMEZONE
TZID:Europe/Helsinki
BEGIN:DAYLIGHT
TZOFFSETFROM:+0200
TZOFFSETTO:+0300
TZNAME:EEST
DTSTART:20180325T010000
END:DAYLIGHT
BEGIN:STANDARD
TZOFFSETFROM:+0300
TZOFFSETTO:+0200
TZNAME:EET
DTSTART:20181028T010000
END:STANDARD
END:VTIMEZONE
BEGIN:VEVENT
DTSTART;TZID=Europe/Helsinki:20181006T200000
DTEND;TZID=Europe/Helsinki:20181006T234500
DTSTAMP:20260424T111337
CREATED:20180919T094036Z
LAST-MODIFIED:20180926T142031Z
UID:54454-1538856000-1538869500@www.heteroclite.org
SUMMARY:Arm Aber Sexy d'octobre @ Lavoir Public + Terminal
DESCRIPTION:Pour sa soirée d’octobre Arm Aber Sexy convie Jacques Terrasse et Laurent Caligaris du label Difu pour une soirée clubbing berlinois.\n  \nArm Aber Sexy\, la soirée durant laquelle les reines de la pop vous feront danser dans le bassin jusqu’à minuit\, avant que le Lavoir ne se transforme en citrouille… Et que vous rejoignez – ou pas – l’after au Terminal. \nTous les premiers samedis du mois\, le Lavoir vous donne rendez-vous de 20h à minuit (3/5€) dans son antre\, puis au Terminal jusqu’à 7h (entrée 8€). \nComme un clin d’œil à Berlin\, Arm aber sexy* est la soirée où chacun est\, à sa façon\, *pauvre mais sexy. Bienvenue à chacune et chacun\, mais un conseil : arrivez tôt ! \n 
URL:https://www.heteroclite.org/evenement-heteroclite/arm-aber-sexy-doctobre-lavoir-public
LOCATION:Le Lavoir public\, 4 impasse Flesselles\, Lyon 1\, Rhône-Alpes\, 69001\, France
ORGANIZER;CN="Le%20Lavoir%20Public":MAILTO:contact@lelavoirpublic.fr
END:VEVENT
END:VCALENDAR