BEGIN:VCALENDAR
VERSION:2.0
PRODID:-//Hétéroclite - ECPv5.16.1.1//NONSGML v1.0//EN
CALSCALE:GREGORIAN
METHOD:PUBLISH
X-WR-CALNAME:Hétéroclite
X-ORIGINAL-URL:https://www.heteroclite.org
X-WR-CALDESC:évènements pour Hétéroclite
BEGIN:VTIMEZONE
TZID:Europe/Helsinki
BEGIN:DAYLIGHT
TZOFFSETFROM:+0200
TZOFFSETTO:+0300
TZNAME:EEST
DTSTART:20140330T010000
END:DAYLIGHT
BEGIN:STANDARD
TZOFFSETFROM:+0300
TZOFFSETTO:+0200
TZNAME:EET
DTSTART:20141026T010000
END:STANDARD
END:VTIMEZONE
BEGIN:VEVENT
DTSTART;TZID=Europe/Helsinki:20141019T170000
DTEND;TZID=Europe/Helsinki:20141019T220000
DTSTAMP:20260421T082838
CREATED:20140702T060457Z
LAST-MODIFIED:20141018T161833Z
UID:11980-1413738000-1413756000@www.heteroclite.org
SUMMARY:Art Feast Birthday @ le Bellona
DESCRIPTION:  \nAnniversaire des soirées Art Feast sur la péniche Le Bellona\, avec Dance Ritual par Louie Vega (Masters at Work) et les Art Feast Dj’s : Klaar\, Miimo\, La Biche.
URL:https://www.heteroclite.org/evenement-heteroclite/art-feast-birthday-bellona
LOCATION:Le Bellona\, 100 quai Perrache\, Lyon 2\, Rhône-Alpes\, 69002\, France
END:VEVENT
END:VCALENDAR