BEGIN:VCALENDAR
VERSION:2.0
PRODID:-//Hétéroclite - ECPv5.16.1.1//NONSGML v1.0//EN
CALSCALE:GREGORIAN
METHOD:PUBLISH
X-WR-CALNAME:Hétéroclite
X-ORIGINAL-URL:https://www.heteroclite.org
X-WR-CALDESC:évènements pour Hétéroclite
BEGIN:VTIMEZONE
TZID:Europe/Helsinki
BEGIN:DAYLIGHT
TZOFFSETFROM:+0200
TZOFFSETTO:+0300
TZNAME:EEST
DTSTART:20150329T010000
END:DAYLIGHT
BEGIN:STANDARD
TZOFFSETFROM:+0300
TZOFFSETTO:+0200
TZNAME:EET
DTSTART:20151025T010000
END:STANDARD
END:VTIMEZONE
BEGIN:VEVENT
DTSTART;TZID=Europe/Helsinki:20150625T201500
DTEND;TZID=Europe/Helsinki:20150625T224500
DTSTAMP:20260419T205122
CREATED:20150622T085000Z
LAST-MODIFIED:20150622T085033Z
UID:23917-1435263300-1435272300@www.heteroclite.org
SUMMARY:Avant-Première de "Stand" @ Vues d'en Face
DESCRIPTION:L’équipe de Vues d’en face est très heureuse de pouvoir organiser avec le cinéma le Club une soirée spéciale en présence de Jonathan Taieb\, réalisateur du film “Stand”.\n  \nSéance à 5€ avec le contremarque à imprimer depuis le site de Vues d’en face (www.vuesdenface.com) sur la page du film “Stand”. \n  \nStand\n\nThriller and Drame – France – 2014 – 87 minutes – VOSTF \nA Moscou\, un jeune couple\, Anton et Vlad\, est témoin passif d’une agression. Plus tard\, ils apprennent qu’un crime homophobe a été commis au même moment et au même endroit. Aussitôt\, Anton décide de lancer une enquête\, mais sa soif de vérité n’a d’égal que les peurs et l’amour de Vlad. La quête qu’ils vont mener les conduit vers un avenir incertain. \nStand\, fable sur la morale et l’importance capitale de nos actes\, est surtout un hymne au combat et à la résistance.\nLibrement inspiré de faits réels\, le film dénonce et condamne les politiques répressives qui bafouent les droits humains\, les libertés individuelles et sexuelles aux travers de personnages et situations universelles. Le film fait précisément écho aux lois russes liberticides promulguées en juin 2013 et janvier 2015.\nTourné en 11 jours en mode guerilla sans autorisations de tournage par une jeune équipe internationale de 7 personnes\, Stand est à la fois un film indépendant\, un film d’auteur\, un film à suspense et même parfois un film d’horreur.\n\nAmnesty International et l’Inter-LGBT sont partenaires de la distribution française du film.
URL:https://www.heteroclite.org/evenement-heteroclite/avant-premiere-de-stand-vues-den-face
LOCATION:Cinéma Le Club\, 9 rue du Phalanstère\, Grenoble\, 38000
END:VEVENT
END:VCALENDAR