BEGIN:VCALENDAR
VERSION:2.0
PRODID:-//Hétéroclite - ECPv5.16.1.1//NONSGML v1.0//EN
CALSCALE:GREGORIAN
METHOD:PUBLISH
X-WR-CALNAME:Hétéroclite
X-ORIGINAL-URL:https://www.heteroclite.org
X-WR-CALDESC:évènements pour Hétéroclite
BEGIN:VTIMEZONE
TZID:Europe/Helsinki
BEGIN:DAYLIGHT
TZOFFSETFROM:+0200
TZOFFSETTO:+0300
TZNAME:EEST
DTSTART:20180325T010000
END:DAYLIGHT
BEGIN:STANDARD
TZOFFSETFROM:+0300
TZOFFSETTO:+0200
TZNAME:EET
DTSTART:20181028T010000
END:STANDARD
END:VTIMEZONE
BEGIN:VEVENT
DTSTART;TZID=Europe/Helsinki:20180310T160000
DTEND;TZID=Europe/Helsinki:20180310T180000
DTSTAMP:20260423T191015
CREATED:20170907T122309Z
LAST-MODIFIED:20180128T200636Z
UID:46323-1520697600-1520704800@www.heteroclite.org
SUMMARY:Avant-première de "Coby" en présence du réalisateur
DESCRIPTION:Dans un village du Midwest\, Suzanna\, 23 ans\, change de sexe et devient un garçon : Coby. Cette transformation bouleverse la vie de ceux qui l’aiment. Une chrysalide qui devient celle de toute une famille contrainte de s’adapter. \nCoby – Documentaire – France – 2017 – 1h17 – VOSTF \nEn présence du réalisateur Christian Sonderegger \nDans le cadre du festival Vues d’en face (www.vuesdenface.com) \nPAROLE DE CINÉASTE \nTransformation et normalité. A priori opposées\, ces deux notions alimentent de part en part le premier film de Christian Sonderegger. \nS’engager sur la voie de l’acceptation de soi\, vaincre l’isolement\, les doutes qui assaillent. Tous ces obstacles sont subtilement déployés sur le chemin du jeune Coby pour devenir homme\, dans un émouvant récit qui évite l’écueil de la sur-dramatisation. \nTout le long d’un film où les chairs s’exposent\, où les meurtrissures des uns et des autres viennent enrichir les liens qui les unissent\, le réalisateur ouvre grand la possible transformation d’un corps social trop souvent enclin au rejet de l’Autre. \nAinsi\, la question identitaire (sexuelle\, familiale\, culturelle) est ramenée à sa plus simple expression\, à savoir qu’elle n’est qu’une question de norme. \nEt c’est l’amour au sens large du terme qui vient résoudre l’équation. Un amour qui transparaît chez chacun des protagonistes jusqu’à travers le regard d’un réalisateur soucieux d’apaiser\, d’accompagner par les moyens du cinéma un processus qui ébranle les corps et nos idées reçues. \nEntre une mise en scène maîtrisée et la modernité du propos\, l’histoire de ce film est celle d’un monde où l’altérité est chaleureusement accueillie\, peut-être même désirée.\nC’est celle d’une utopie devenue réalité. \nIIdir Serghine\, cinéaste
URL:https://www.heteroclite.org/evenement-heteroclite/avp-coby-christian-sonderegger
LOCATION:Cinéma Le Club\, 9 rue du Phalanstère\, Grenoble\, 38000
END:VEVENT
END:VCALENDAR