BEGIN:VCALENDAR
VERSION:2.0
PRODID:-//Hétéroclite - ECPv5.16.1.1//NONSGML v1.0//EN
CALSCALE:GREGORIAN
METHOD:PUBLISH
X-WR-CALNAME:Hétéroclite
X-ORIGINAL-URL:https://www.heteroclite.org
X-WR-CALDESC:évènements pour Hétéroclite
BEGIN:VTIMEZONE
TZID:Europe/Helsinki
BEGIN:DAYLIGHT
TZOFFSETFROM:+0200
TZOFFSETTO:+0300
TZNAME:EEST
DTSTART:20170326T010000
END:DAYLIGHT
BEGIN:STANDARD
TZOFFSETFROM:+0300
TZOFFSETTO:+0200
TZNAME:EET
DTSTART:20171029T010000
END:STANDARD
END:VTIMEZONE
BEGIN:VEVENT
DTSTART;TZID=Europe/Helsinki:20170624T190000
DTEND;TZID=Europe/Helsinki:20170625T040000
DTSTAMP:20260423T175941
CREATED:20170619T114649Z
LAST-MODIFIED:20170619T114649Z
UID:44314-1498330800-1498363200@www.heteroclite.org
SUMMARY:Before Army Invasion à la Chapelle Café
DESCRIPTION:Avant de revêtir le treillis pour aller vous trémousser à la soirée Army Invasion du Factory\, venez faire un tour au Before Army Invasion de la Chapelle Café.\nLa Chapelle Café organise un Before Army Invasion à partir de 19h. La soirée se passe avant l’événement Army Invasion du Factory Club. L’entrée est libre.
URL:https://www.heteroclite.org/evenement-heteroclite/before-army-invasion-a-chapelle-cafe
LOCATION:La Chapelle Café\, 8 quai des Célestins\, Lyon 2\, Rhône-Alpes\, 69002\, France
END:VEVENT
END:VCALENDAR