BEGIN:VCALENDAR
VERSION:2.0
PRODID:-//Hétéroclite - ECPv5.16.1.1//NONSGML v1.0//EN
CALSCALE:GREGORIAN
METHOD:PUBLISH
X-WR-CALNAME:Hétéroclite
X-ORIGINAL-URL:https://www.heteroclite.org
X-WR-CALDESC:évènements pour Hétéroclite
BEGIN:VTIMEZONE
TZID:Europe/Helsinki
BEGIN:DAYLIGHT
TZOFFSETFROM:+0200
TZOFFSETTO:+0300
TZNAME:EEST
DTSTART:20170326T010000
END:DAYLIGHT
BEGIN:STANDARD
TZOFFSETFROM:+0300
TZOFFSETTO:+0200
TZNAME:EET
DTSTART:20171029T010000
END:STANDARD
END:VTIMEZONE
BEGIN:VEVENT
DTSTART;TZID=Europe/Helsinki:20171014T200000
DTEND;TZID=Europe/Helsinki:20171015T010000
DTSTAMP:20260420T232555
CREATED:20171008T134308Z
LAST-MODIFIED:20171008T192048Z
UID:46989-1508011200-1508029200@www.heteroclite.org
SUMMARY:Before officiel Love's Freedom @ L'Étoile Opéra
DESCRIPTION:Avant la soirée Love’s Freedom au Ninkasi Gerland\, l’Étoile Opéra reçoit Dj Torres\, nouveau résident de l’Impérial\, pour un set future-house et deep-house.\nL’Étoile Opéra (www.facebook.com/letoile.opera)\, bar à l’ambiance lounge\, accueille toute la journée une clientèle mixte\, gay et gay-friendly\, attirée par sa grande terrasse en zone piétonne. L’intérieur vaut aussi le détour grâce aux toiles d’artistes qui sont accrochées aux murs.
URL:https://www.heteroclite.org/evenement-heteroclite/before-loves-freedom-etoile-opera
LOCATION:L’Étoile Opéra\, 26 rue de l'Arbre Sec\, Lyon 1\, Rhône-Alpes\, 69001\, France
END:VEVENT
END:VCALENDAR