BEGIN:VCALENDAR
VERSION:2.0
PRODID:-//Hétéroclite - ECPv5.16.1.1//NONSGML v1.0//EN
CALSCALE:GREGORIAN
METHOD:PUBLISH
X-WR-CALNAME:Hétéroclite
X-ORIGINAL-URL:https://www.heteroclite.org
X-WR-CALDESC:évènements pour Hétéroclite
BEGIN:VTIMEZONE
TZID:Europe/Helsinki
BEGIN:DAYLIGHT
TZOFFSETFROM:+0200
TZOFFSETTO:+0300
TZNAME:EEST
DTSTART:20170326T010000
END:DAYLIGHT
BEGIN:STANDARD
TZOFFSETFROM:+0300
TZOFFSETTO:+0200
TZNAME:EET
DTSTART:20171029T010000
END:STANDARD
END:VTIMEZONE
BEGIN:VEVENT
DTSTART;TZID=Europe/Helsinki:20170415T233000
DTEND;TZID=Europe/Helsinki:20170416T050000
DTSTAMP:20260419T170223
CREATED:20161201T083752Z
LAST-MODIFIED:20170415T203604Z
UID:37895-1492299000-1492318800@www.heteroclite.org
SUMMARY:Black Out @ Le George V Grenoble
DESCRIPTION:“Black out”\, c’est une soirée dans le noir où seul les lasers et les fluos vous éclaireront… Dans le noir tout peut arriver et au George V tout peut se passer… Le noir ouvre la porte à toutes les possibilités et facilite les rencontres. Alors n’aies pas froid aux yeux ! Aux platines\, vous retrouverez Airely et Lenox.\nSeul club gay-friendly de Grenoble\, le George V se divise en deux salles pour deux ambiances : disco à un étage\, électro à l’autre. Ouvert du jeudi au samedi\, le George V propose chaque week-end des soirées à thème comme la fameuse Nuit de la suce\, la Pink Party\, la soirée Black Out ou la Champagne Showers. \nwww.g5discotheque.com
URL:https://www.heteroclite.org/evenement-heteroclite/black-out-george-v-grenoble
LOCATION:Le George V\, 124 cours Berriat\, Grenoble\, Rhône-Alpes\, 38000\, France
END:VEVENT
END:VCALENDAR