BEGIN:VCALENDAR
VERSION:2.0
PRODID:-//Hétéroclite - ECPv5.16.1.1//NONSGML v1.0//EN
CALSCALE:GREGORIAN
METHOD:PUBLISH
X-WR-CALNAME:Hétéroclite
X-ORIGINAL-URL:https://www.heteroclite.org
X-WR-CALDESC:évènements pour Hétéroclite
BEGIN:VTIMEZONE
TZID:Europe/Helsinki
BEGIN:DAYLIGHT
TZOFFSETFROM:+0200
TZOFFSETTO:+0300
TZNAME:EEST
DTSTART:20180325T010000
END:DAYLIGHT
BEGIN:STANDARD
TZOFFSETFROM:+0300
TZOFFSETTO:+0200
TZNAME:EET
DTSTART:20181028T010000
END:STANDARD
END:VTIMEZONE
BEGIN:VEVENT
DTSTART;TZID=Europe/Helsinki:20180224T233000
DTEND;TZID=Europe/Helsinki:20180225T060000
DTSTAMP:20260423T191007
CREATED:20180216T155047Z
LAST-MODIFIED:20180216T155208Z
UID:49464-1519515000-1519538400@www.heteroclite.org
SUMMARY:Black Party w/ Dj Aron & Beth Sacks @ Ninkasi Gerland
DESCRIPTION:Cette Black Party organisée par L’Impérial au Ninkasi Gerland accueillera Dj Aron & Beth Sacks (USA). Warm-up par Karl Kay (Paris)\, closing par Mad Marty (Lyon).
URL:https://www.heteroclite.org/evenement-heteroclite/black-party-dj-aron-beth-sacks
LOCATION:Ninkasi Gerland\, 267 rue Marcel Mérieux\, Lyon 7\, Rhône-Alpes\, 69007\, France
END:VEVENT
END:VCALENDAR