BEGIN:VCALENDAR
VERSION:2.0
PRODID:-//Hétéroclite - ECPv5.16.1.1//NONSGML v1.0//EN
CALSCALE:GREGORIAN
METHOD:PUBLISH
X-WR-CALNAME:Hétéroclite
X-ORIGINAL-URL:https://www.heteroclite.org
X-WR-CALDESC:évènements pour Hétéroclite
BEGIN:VTIMEZONE
TZID:Europe/Helsinki
BEGIN:DAYLIGHT
TZOFFSETFROM:+0200
TZOFFSETTO:+0300
TZNAME:EEST
DTSTART:20140330T010000
END:DAYLIGHT
BEGIN:STANDARD
TZOFFSETFROM:+0300
TZOFFSETTO:+0200
TZNAME:EET
DTSTART:20141026T010000
END:STANDARD
END:VTIMEZONE
BEGIN:VEVENT
DTSTART;TZID=Europe/Helsinki:20141026T110000
DTEND;TZID=Europe/Helsinki:20141026T150000
DTSTAMP:20260421T015055
CREATED:20141020T163346Z
LAST-MODIFIED:20141020T163610Z
UID:14326-1414321200-1414335600@www.heteroclite.org
SUMMARY:Brunch gay\, lesbien et friendly
DESCRIPTION:  \nBrunch pour les personnes LGBT et les hétéros friendlys.\n  \nDans la brasserie Le 1900\, privatisée pour l’occasion\, un service à l’assiette\, avec un buffet sucré/salé et des boissons chaudes servies à discrétion. Tout est fait maison. Dj-set lounge par Antoine 909. Réservation indispensable au 07.64.08.03.62 ou par mail à contact@zebrunch.fr.
URL:https://www.heteroclite.org/evenement-heteroclite/brunch-gay-lesbien
LOCATION:Brasserie le 1900\, 45 rue Victor Hugo\, Lyon 2\, Rhône-Alpes\, 69002\, France
ORGANIZER;CN="Ze%20Brunch":MAILTO:contact@zebrunch.fr
END:VEVENT
END:VCALENDAR