BEGIN:VCALENDAR
VERSION:2.0
PRODID:-//Hétéroclite - ECPv5.16.1.1//NONSGML v1.0//EN
CALSCALE:GREGORIAN
METHOD:PUBLISH
X-WR-CALNAME:Hétéroclite
X-ORIGINAL-URL:https://www.heteroclite.org
X-WR-CALDESC:évènements pour Hétéroclite
BEGIN:VTIMEZONE
TZID:Europe/Helsinki
BEGIN:DAYLIGHT
TZOFFSETFROM:+0200
TZOFFSETTO:+0300
TZNAME:EEST
DTSTART:20170326T010000
END:DAYLIGHT
BEGIN:STANDARD
TZOFFSETFROM:+0300
TZOFFSETTO:+0200
TZNAME:EET
DTSTART:20171029T010000
END:STANDARD
END:VTIMEZONE
BEGIN:VEVENT
DTSTART;TZID=Europe/Helsinki:20170716T180000
DTEND;TZID=Europe/Helsinki:20170716T230000
DTSTAMP:20260423T191004
CREATED:20170621T130805Z
LAST-MODIFIED:20170621T130805Z
UID:44472-1500228000-1500246000@www.heteroclite.org
SUMMARY:Ciné Queer -  Intérieur Queer - Le Sucre
DESCRIPTION:Le festival Intérieur Queer se termine avec Ciné Queer\, le film du dimanche soir avec deux projections inédites au Sucre le 16 juillet.\nIntérieur Queer se termine avec deux films\, lors du Ciné Queer le dimanche 16 juillet :  \nVideo Killed The Radio Star de Julia Chapot (11’45)\nDans les années 80\, Freddie\, un jeune homme homosexuel au look excentrique\, rejeté par son entourage\, va chercher à s’émanciper et se libérer le temps d’une soirée. Comme de nombreux jeunes gens de sa génération\, la télévision constitue sa principale fenêtre sur le monde. À travers elle\, Freddie voyage d’un univers à un autre\, rencontre des personnages colorés pour mieux s’accepter.\nL’itinéraire de ce personnage\, perdu dans un monde d’images\, trouve ses inspirations dans l’épopée glam rock de Ziggy Stardust\, œuvre majeure de David Bowie\, dans l’ambiance des années 70/80\, et dans les vieux films de science-fiction de l’époque de la conquête spatiale. \nHustler White de Bruce LaBruce (80’)\nUn écrivain européen débarque à Los Angeles pour y faire des recherches sur la prostitution homosexuelle et la pornographie. Au hasard d’une rue\, il tombe sous le charme d’un jeune prostitué latino. S’ensuit une cavale amoureuse à travers les milieux les plus variés et sordides que compte L.A. \n  \nL’entrée est gratuite.  \n 
URL:https://www.heteroclite.org/evenement-heteroclite/cine-queer-interieur-queer-sucre
LOCATION:Le Sucre\, 50 quai Rambaud\, Lyon 2\, 69002\, France
END:VEVENT
END:VCALENDAR