BEGIN:VCALENDAR
VERSION:2.0
PRODID:-//Hétéroclite - ECPv5.16.1.1//NONSGML v1.0//EN
CALSCALE:GREGORIAN
METHOD:PUBLISH
X-WR-CALNAME:Hétéroclite
X-ORIGINAL-URL:https://www.heteroclite.org
X-WR-CALDESC:évènements pour Hétéroclite
BEGIN:VTIMEZONE
TZID:Europe/Helsinki
BEGIN:DAYLIGHT
TZOFFSETFROM:+0200
TZOFFSETTO:+0300
TZNAME:EEST
DTSTART:20180325T010000
END:DAYLIGHT
BEGIN:STANDARD
TZOFFSETFROM:+0300
TZOFFSETTO:+0200
TZNAME:EET
DTSTART:20181028T010000
END:STANDARD
END:VTIMEZONE
BEGIN:VEVENT
DTSTART;TZID=Europe/Helsinki:20181006T170000
DTEND;TZID=Europe/Helsinki:20181006T190000
DTSTAMP:20260422T145549
CREATED:20180612T103733Z
LAST-MODIFIED:20180926T140949Z
UID:52322-1538845200-1538852400@www.heteroclite.org
SUMMARY:Réunion mensuelle Commission Jeunes @ Centre LGBTI Lyon
DESCRIPTION:Tu es étudiant\, collégien\, lycéen ou tu as entre 16 et 26 ans ? Rejoins la Commission Jeunes du Centre LGBTI Lyon pour échanger sur son fonctionnement et ses actions ! \nPour cette toute première réunion de la Commission Jeunes\, le Centre LGBTI Lyon a prévu un petit buffet gratuit. Des boissons payantes seront également disponibles sur place. 
URL:https://www.heteroclite.org/evenement-heteroclite/commission-jeunes-centre-lgbti-lyon
LOCATION:Centre LGBTI de Lyon\, 19 rue des Capucins\, Lyon 1\, Rhône-Alpes\, 69001\, France
END:VEVENT
END:VCALENDAR