BEGIN:VCALENDAR
VERSION:2.0
PRODID:-//Hétéroclite - ECPv5.16.1.1//NONSGML v1.0//EN
CALSCALE:GREGORIAN
METHOD:PUBLISH
X-WR-CALNAME:Hétéroclite
X-ORIGINAL-URL:https://www.heteroclite.org
X-WR-CALDESC:évènements pour Hétéroclite
BEGIN:VTIMEZONE
TZID:Europe/Helsinki
BEGIN:DAYLIGHT
TZOFFSETFROM:+0200
TZOFFSETTO:+0300
TZNAME:EEST
DTSTART:20160327T010000
END:DAYLIGHT
BEGIN:STANDARD
TZOFFSETFROM:+0300
TZOFFSETTO:+0200
TZNAME:EET
DTSTART:20161030T010000
END:STANDARD
END:VTIMEZONE
BEGIN:VEVENT
DTSTART;TZID=Europe/Helsinki:20160706T180000
DTEND;TZID=Europe/Helsinki:20160706T203000
DTSTAMP:20260420T173101
CREATED:20150529T123539Z
LAST-MODIFIED:20160531T070743Z
UID:22590-1467828000-1467837000@www.heteroclite.org
SUMMARY:Débat : Discriminations LGBTI - comment agir en entreprise ?
DESCRIPTION:Dans le cadre de la Quinzaine des cultures LGBT\, l’Union Départementale CFDT du Rhône vous propose une conférence-débat autour de la question “Discriminations LGBTI – comment agir en entreprise ?”.\nVous êtes invité-e-s à débattre autour des discriminations LGBTI en entreprise. La loi encadre très clairement les éventuelles discriminations liées à l’orientation sexuelle qui entraîneraient notamment des incidences sur l’évolution professionnelle et l’accès aux droits. Ces situations peuvent générer une forme d’exclusion ou tout du moins de la souffrance au travail. \nNous vous proposons de faire un état des lieux et d’échanger sur les outils et voies de recours lorsque l’on est victime de discrimination au travail. \nDes militants syndicaux\, des juristes CFDT et des intervenants associatifs viendront enrichir ce débat et répondre à vos questions. \n \n 
URL:https://www.heteroclite.org/evenement-heteroclite/debat-discriminations-lgbti-en-entreprise
LOCATION:Le Monde en bouche\, 15 bis rue Imbert-Colomès\, Lyon 1\, 69001\, France
ORGANIZER;CN="UD%20CFDT%20R%C3%B4ne":MAILTO:rhone@cfdt.fr
END:VEVENT
END:VCALENDAR