BEGIN:VCALENDAR
VERSION:2.0
PRODID:-//Hétéroclite - ECPv5.16.1.1//NONSGML v1.0//EN
CALSCALE:GREGORIAN
METHOD:PUBLISH
X-WR-CALNAME:Hétéroclite
X-ORIGINAL-URL:https://www.heteroclite.org
X-WR-CALDESC:évènements pour Hétéroclite
BEGIN:VTIMEZONE
TZID:Europe/Helsinki
BEGIN:DAYLIGHT
TZOFFSETFROM:+0200
TZOFFSETTO:+0300
TZNAME:EEST
DTSTART:20160327T010000
END:DAYLIGHT
BEGIN:STANDARD
TZOFFSETFROM:+0300
TZOFFSETTO:+0200
TZNAME:EET
DTSTART:20161030T010000
END:STANDARD
END:VTIMEZONE
BEGIN:VEVENT
DTSTART;TZID=Europe/Helsinki:20160415T233000
DTEND;TZID=Europe/Helsinki:20160416T053000
DTSTAMP:20260419T181307
CREATED:20141018T163408Z
LAST-MODIFIED:20160223T133644Z
UID:14258-1460763000-1460784600@www.heteroclite.org
SUMMARY:Elektro System présente Déstructuré
DESCRIPTION:  \nElektro System présente Déstructuré.
URL:https://www.heteroclite.org/evenement-heteroclite/destructure-elektro-system
LOCATION:Ninkasi Gerland\, 267 rue Marcel Mérieux\, Lyon 7\, Rhône-Alpes\, 69007\, France
END:VEVENT
END:VCALENDAR