BEGIN:VCALENDAR
VERSION:2.0
PRODID:-//Hétéroclite - ECPv5.16.1.1//NONSGML v1.0//EN
CALSCALE:GREGORIAN
METHOD:PUBLISH
X-WR-CALNAME:Hétéroclite
X-ORIGINAL-URL:https://www.heteroclite.org
X-WR-CALDESC:évènements pour Hétéroclite
BEGIN:VTIMEZONE
TZID:Europe/Helsinki
BEGIN:DAYLIGHT
TZOFFSETFROM:+0200
TZOFFSETTO:+0300
TZNAME:EEST
DTSTART:20180325T010000
END:DAYLIGHT
BEGIN:STANDARD
TZOFFSETFROM:+0300
TZOFFSETTO:+0200
TZNAME:EET
DTSTART:20181028T010000
END:STANDARD
END:VTIMEZONE
BEGIN:VEVENT
DTSTART;TZID=Europe/Helsinki:20181005T210000
DTEND;TZID=Europe/Helsinki:20181006T010000
DTSTAMP:20260421T141718
CREATED:20180913T150032Z
LAST-MODIFIED:20180913T150033Z
UID:54363-1538773200-1538787600@www.heteroclite.org
SUMMARY:Disco-vente aux Enchères : Dynastits x Dragones @ LiveStation
DESCRIPTION:Vente aux enchères de vinyles : une opportunité unique de saisir des pièces rares ! \n  \nLa vente sera menée par l’intraitable Tata Chlamydia (Garance LI)\, commissaire-priseure qui aime claquer du marteau\, et ses assistantes\, Nice Girl Eddie et Simone Du Boudoir.\nQuand tu en auras marre de te battre pour un 33t de Bonnie Tyler\, DraGones\, le tout nouveau tout beau collectif de Drag Queens\, viendra pimper ta soirée de mini shows bigarrés aux accents vintage !
URL:https://www.heteroclite.org/evenement-heteroclite/disco-vente-aux-encheres-dynastits-x-dragones-livestation
LOCATION:LiveStation-DIY\, 14 rue de Bonald\, Lyon 7\, Rhône-Alpes\, 69007\, France
END:VEVENT
END:VCALENDAR