BEGIN:VCALENDAR
VERSION:2.0
PRODID:-//Hétéroclite - ECPv5.16.1.1//NONSGML v1.0//EN
CALSCALE:GREGORIAN
METHOD:PUBLISH
X-WR-CALNAME:Hétéroclite
X-ORIGINAL-URL:https://www.heteroclite.org
X-WR-CALDESC:évènements pour Hétéroclite
BEGIN:VTIMEZONE
TZID:Europe/Helsinki
BEGIN:DAYLIGHT
TZOFFSETFROM:+0200
TZOFFSETTO:+0300
TZNAME:EEST
DTSTART:20160327T010000
END:DAYLIGHT
BEGIN:STANDARD
TZOFFSETFROM:+0300
TZOFFSETTO:+0200
TZNAME:EET
DTSTART:20161030T010000
END:STANDARD
END:VTIMEZONE
BEGIN:VEVENT
DTSTART;TZID=Europe/Helsinki:20160930T193000
DTEND;TZID=Europe/Helsinki:20160930T220000
DTSTAMP:20260420T190025
CREATED:20131211T115644Z
LAST-MODIFIED:20161110T143814Z
UID:30645-1475263800-1475272800@www.heteroclite.org
SUMMARY:Vernissage de l’exposition "Elle est lui\, lui est elle" avec FRISSE
DESCRIPTION:Photos par Nikita\, à voir du 30 septembre au 19 octobre. Avec FRISSE. En présence de l’artiste et de Corinne Soulanet\, adjointe à la Culture du 1er arrondissement de Lyon.\nC’est dans une dynamique féministe\, transversale et inclusive que FRISSE a pour objectif de lutter contre les précarités et discriminations\, tout en faisant passer un message de prévention en matière de santé\, de sexualité et de psychotropes\, pour toutes et tous. L’association propose également des sessions de formation\, des animations et des ateliers\, en partenariat avec d’autres associations\, telles que les Sœurs de la Perpétuelle Indulgence. Une permanence a lieu un mercredi sur deux\, de 16h à 19h\, au Centre LGBTI de Lyon.
URL:https://www.heteroclite.org/evenement-heteroclite/elle-est-lui-lui-est-elle-expo-frisse
LOCATION:Centre LGBTI de Lyon\, 19 rue des Capucins\, Lyon 1\, Rhône-Alpes\, 69001\, France
ORGANIZER;CN="FRISSE":MAILTO:frisse@free.fr
END:VEVENT
END:VCALENDAR