BEGIN:VCALENDAR
VERSION:2.0
PRODID:-//Hétéroclite - ECPv5.16.1.1//NONSGML v1.0//EN
CALSCALE:GREGORIAN
METHOD:PUBLISH
X-WR-CALNAME:Hétéroclite
X-ORIGINAL-URL:https://www.heteroclite.org
X-WR-CALDESC:évènements pour Hétéroclite
BEGIN:VTIMEZONE
TZID:Europe/Helsinki
BEGIN:DAYLIGHT
TZOFFSETFROM:+0200
TZOFFSETTO:+0300
TZNAME:EEST
DTSTART:20150329T010000
END:DAYLIGHT
BEGIN:STANDARD
TZOFFSETFROM:+0300
TZOFFSETTO:+0200
TZNAME:EET
DTSTART:20151025T010000
END:STANDARD
END:VTIMEZONE
BEGIN:VEVENT
DTSTART;TZID=Europe/Helsinki:20151015T190000
DTEND;TZID=Europe/Helsinki:20151015T220000
DTSTAMP:20260419T155310
CREATED:20151015T083342Z
LAST-MODIFIED:20151015T083450Z
UID:26563-1444935600-1444946400@www.heteroclite.org
SUMMARY:En 2015\, sexiste\, le web ? @ Le Lavoir public
DESCRIPTION:  \nConférence sur l’image des femmes sur le web\, dans le cadre de la Quinzaine régionale pour l’égalité femmes-hommes.\n  \nAu programme de la soirée : questionnements et enjeux ? Le web\, un outil aux usages multiples (le meilleur comme le pire)\, mais avec quelques spécificités. \nMuriel Salle\, historienne\, maîtresse de conférences à l’Université Claude Bernard de Lyon\, nous présente la table ronde avec  :\n– Aurélie Olivesi\, maîtresse de conférence à l’Université Lyon 1\, membre du laboratoire ELICO\, pour “Genre et polémiques en ligne. Questionnements\, outils et problématiques”\n– Beryl Bès\, créatrice du site My Annona\, une plateforme de crowdfunding dédiée aux femmes pour “Super femme digitale ? Les femmes chef d’entreprise et le web”. Présentation de la plateforme : raison d’être\, valeurs et enjeux.\n– Alexie Geers\, doctorante Lhivic/Ehess (Images médiatiques et genre) pour “Les blogs féminins\, entre appropriation et contestation du genre”.  \nÉchanges avec la salle et entre les intervenant(e)s\, discussion autour d’un verre. Débats mis en images avec Olivier Rey\, metteur en scène et directeur du Lavoir public. Conférence préparée et animée par Muriel Salle.
URL:https://www.heteroclite.org/evenement-heteroclite/en-2015-sexiste-le-web-le-lavoir-public
LOCATION:Le Lavoir public\, 4 impasse Flesselles\, Lyon 1\, Rhône-Alpes\, 69001\, France
END:VEVENT
END:VCALENDAR