BEGIN:VCALENDAR
VERSION:2.0
PRODID:-//Hétéroclite - ECPv5.16.1.1//NONSGML v1.0//EN
CALSCALE:GREGORIAN
METHOD:PUBLISH
X-WR-CALNAME:Hétéroclite
X-ORIGINAL-URL:https://www.heteroclite.org
X-WR-CALDESC:évènements pour Hétéroclite
BEGIN:VTIMEZONE
TZID:Europe/Helsinki
BEGIN:DAYLIGHT
TZOFFSETFROM:+0200
TZOFFSETTO:+0300
TZNAME:EEST
DTSTART:20160327T010000
END:DAYLIGHT
BEGIN:STANDARD
TZOFFSETFROM:+0300
TZOFFSETTO:+0200
TZNAME:EET
DTSTART:20161030T010000
END:STANDARD
END:VTIMEZONE
BEGIN:VEVENT
DTSTART;TZID=Europe/Helsinki:20160326T180000
DTEND;TZID=Europe/Helsinki:20160326T210000
DTSTAMP:20260421T140545
CREATED:20160228T140325Z
LAST-MODIFIED:20160228T140325Z
UID:30074-1459015200-1459026000@www.heteroclite.org
SUMMARY:Érection du Couvent des Traboules
DESCRIPTION:Lyon accueille désormais un nouveau couvent des Sœurs de la Perpétuelle Indulgence (en sus du Couvent des 69 Gaules) : le Couvent des Traboules.\nLe travestissement comme outil de lutte contre la stigmatisation des homosexuels et le sida\, tel est le credo des Sœurs de la Perpétuelle Indulgence depuis le 15 avril 1979\, date de la fondation de leur premier couvent\, à San Francisco. Depuis ce jour\, l’habit de nonne est inséparable de leur identité : la légende dit que les trois premières Sœurs avaient emprunté leurs déguisements à des religieuses de l’Iowa en prétendant qu’ils serviraient à une représentation théâtrale de La Mélodie du bonheur… Au civil\, la plupart des Sœurs de la Perpétuelle Indulgence sont des hommes et certains n’hésitent pas à arborer fièrement leur pilosité faciale sous leur maquillage blanc. Alors\, pourquoi porter des habits traditionnellement associés à l’autre sexe\, relevant qui plus est du domaine sensible de la religion ? Est-ce une provocation à l’égard des catholiques\, voire une pure et simple manifestation de “christianophobie”\, comme le clament certains intégristes d’extrême-droite ? En réalité\, le rôle de ce costume va bien au-delà de la dérision. Il est\, bien sûr\, une façon de rappeler l’Église catholique à ses propres valeurs\, souvent proclamées\, rarement appliquées (surtout lorsqu’il est question de sida !) : amour de son prochain\, tolérance\, fraternité… Mais c’est aussi un moyen de faciliter le dialogue entre les Sœurs et leur public\, rencontré sur les lieux de drague\, dans les saunas\, les sex-clubs\, les bars ou durant les Marches des Fiertés. Lors de ces échanges\, il est souvent question de sexualité\, de prises de risque\, de maladie\, de mort… Autant de thèmes qu’il n’est pas toujours facile d’aborder avec un inconnu. La figure réconfortante et protectrice de la Sœur\, elle-même pécheresse et dénuée de tout jugement moral\, permet de mettre leurs interlocuteurs en confiance en introduisant une distance avec une réalité parfois difficile. Depuis la fondation du premier couvent français\, à Paris\, en 1990\, l’Ordre de la Perpétuelle Indulgence a essaimé à travers l’Hexagone et compte désormais six couvents en activité dont\, à Lyon\, le Couvent des 69 Gaules et le Couvent des Traboules.
URL:https://www.heteroclite.org/evenement-heteroclite/erection-du-couvent-des-traboules
LOCATION:Centre LGBTI de Lyon\, 19 rue des Capucins\, Lyon 1\, Rhône-Alpes\, 69001\, France
ORGANIZER;CN="SPI%20-%20Couvent%20des%20Traboules":MAILTO:contact@couventdestraboules.org
END:VEVENT
END:VCALENDAR