BEGIN:VCALENDAR
VERSION:2.0
PRODID:-//Hétéroclite - ECPv5.16.1.1//NONSGML v1.0//EN
CALSCALE:GREGORIAN
METHOD:PUBLISH
X-WR-CALNAME:Hétéroclite
X-ORIGINAL-URL:https://www.heteroclite.org
X-WR-CALDESC:évènements pour Hétéroclite
BEGIN:VTIMEZONE
TZID:Europe/Helsinki
BEGIN:DAYLIGHT
TZOFFSETFROM:+0200
TZOFFSETTO:+0300
TZNAME:EEST
DTSTART:20140330T010000
END:DAYLIGHT
BEGIN:STANDARD
TZOFFSETFROM:+0300
TZOFFSETTO:+0200
TZNAME:EET
DTSTART:20141026T010000
END:STANDARD
END:VTIMEZONE
BEGIN:VEVENT
DTSTART;TZID=Europe/Helsinki:20141115T203000
DTEND;TZID=Europe/Helsinki:20141115T203000
DTSTAMP:20260420T230015
CREATED:20141112T145819Z
LAST-MODIFIED:20141112T145846Z
UID:14997-1416083400-1416083400@www.heteroclite.org
SUMMARY:Vernissage de l'exposition "Toxic Ego" de Stan Akha
DESCRIPTION:  \nStan Akha est un artiste-peintre et plasticien décalé\, noctambule du milieu alternatif lyonnais et tatoueur évoluant depuis cinq ans au sein de MBA – My Body Art.\n  \nInspiré entre autres par les peintres surréalistes et l’art populaire\, Stan Akha peint ses rêves\, ses visions psychédéliques et sa vision du monde actuel. Il multiplie les techniques\, les supports et les collaborations avec divers artistes et donne naissance à un univers singulier\, entre onirisme et fantasmagorie. L’exposition Toxik Ego (à voir du 15 novembre au 1er janvier) rassemble ses dernières œuvres sur le thème de l’ego ainsi que des collaborations avec ses amis artistes Max\, Rémi Noir et Akro.
URL:https://www.heteroclite.org/evenement-heteroclite/exposition-toxic-ego-stan-akha
LOCATION:MBA – My Body Art\, 22 rue Terme\, Lyon\, 69001\, France
END:VEVENT
END:VCALENDAR