BEGIN:VCALENDAR
VERSION:2.0
PRODID:-//Hétéroclite - ECPv5.16.1.1//NONSGML v1.0//EN
CALSCALE:GREGORIAN
METHOD:PUBLISH
X-WR-CALNAME:Hétéroclite
X-ORIGINAL-URL:https://www.heteroclite.org
X-WR-CALDESC:évènements pour Hétéroclite
BEGIN:VTIMEZONE
TZID:Europe/Helsinki
BEGIN:DAYLIGHT
TZOFFSETFROM:+0200
TZOFFSETTO:+0300
TZNAME:EEST
DTSTART:20170326T010000
END:DAYLIGHT
BEGIN:STANDARD
TZOFFSETFROM:+0300
TZOFFSETTO:+0200
TZNAME:EET
DTSTART:20171029T010000
END:STANDARD
END:VTIMEZONE
BEGIN:VEVENT
DTSTART;TZID=Europe/Helsinki:20170131T193000
DTEND;TZID=Europe/Helsinki:20170201T010000
DTSTAMP:20260424T152039
CREATED:20160620T143540Z
LAST-MODIFIED:20170109T095208Z
UID:33826-1485891000-1485910800@www.heteroclite.org
SUMMARY:Femmes aux fourneaux @ La Bobine
DESCRIPTION:Des ménagères de moins de 50 ans (membres du collectif Dynastits) s’encanaillent derrière leurs fourneaux. Lassées des recettes trop traditionnelles\, elles décident de monter le thermostat à 11 et de concocter des plats très relevés. Au menu des Femmes aux Fourneaux : mignardises wizz\, rock’n’rollmops sauce garage\, électropézienne.\nAmuses-bouche des Femmes aux Fourneaux : mixcloud.com/femmesauxfourneaux
URL:https://www.heteroclite.org/evenement-heteroclite/femmes-aux-fourneaux-bobine-grenoble
LOCATION:La Bobine\, 42 boulevard Clémenceau\, Grenoble\, Rhône-Alpes\, France
ORGANIZER;CN="Femmes%20aux%20Fourneaux":MAILTO:femmesofourneaux@gmail.com
END:VEVENT
END:VCALENDAR