BEGIN:VCALENDAR
VERSION:2.0
PRODID:-//Hétéroclite - ECPv5.16.1.1//NONSGML v1.0//EN
CALSCALE:GREGORIAN
METHOD:PUBLISH
X-WR-CALNAME:Hétéroclite
X-ORIGINAL-URL:https://www.heteroclite.org
X-WR-CALDESC:évènements pour Hétéroclite
BEGIN:VTIMEZONE
TZID:Europe/Helsinki
BEGIN:DAYLIGHT
TZOFFSETFROM:+0200
TZOFFSETTO:+0300
TZNAME:EEST
DTSTART:20140330T010000
END:DAYLIGHT
BEGIN:STANDARD
TZOFFSETFROM:+0300
TZOFFSETTO:+0200
TZNAME:EET
DTSTART:20141026T010000
END:STANDARD
END:VTIMEZONE
BEGIN:VEVENT
DTSTART;TZID=Europe/Helsinki:20140715T193000
DTEND;TZID=Europe/Helsinki:20140715T193000
DTSTAMP:20260423T191005
CREATED:20140709T081631Z
LAST-MODIFIED:20140709T081631Z
UID:12363-1405452600-1405452600@www.heteroclite.org
SUMMARY:Go Bang! #30 @ la Bobine
DESCRIPTION:Apéro Go Bang! #30 de Chica-Chic (Summer Edition) à la Bobine mardi 15 juillet à partir de 19h30\nLes apéro-mix Go Bang !\, tournés vers la «club-music aventureuse» sont toujours animés par le collectif grenoblois Chica-Chic (qui organisait naguère les soirées lesbiennes Blonde on Blonde)\, ils proposent le meilleur de la musique alternative de ces dernières décennies\, soigneusement sélectionné par Dj Rescue et ses guest réguliers. De 19h30 à minuit\, un public très varié\, où se mélangent hommes et femmes\, hétéros et homos\, s’agite et transpire sur un mix “électro mais pas que”. Amateurs de musiques actuelles\, sachez enfin que les Go Bang ! sont des soirées gay-friendly mensuelles et se tiennent en général le troisième mardi du mois.
URL:https://www.heteroclite.org/evenement-heteroclite/go-bang-30-bobine
LOCATION:La Bobine\, 42 boulevard Clémenceau\, Grenoble\, Rhône-Alpes\, France
END:VEVENT
END:VCALENDAR