BEGIN:VCALENDAR
VERSION:2.0
PRODID:-//Hétéroclite - ECPv5.16.1.1//NONSGML v1.0//EN
CALSCALE:GREGORIAN
METHOD:PUBLISH
X-WR-CALNAME:Hétéroclite
X-ORIGINAL-URL:https://www.heteroclite.org
X-WR-CALDESC:évènements pour Hétéroclite
BEGIN:VTIMEZONE
TZID:Europe/Helsinki
BEGIN:DAYLIGHT
TZOFFSETFROM:+0200
TZOFFSETTO:+0300
TZNAME:EEST
DTSTART:20150329T010000
END:DAYLIGHT
BEGIN:STANDARD
TZOFFSETFROM:+0300
TZOFFSETTO:+0200
TZNAME:EET
DTSTART:20151025T010000
END:STANDARD
END:VTIMEZONE
BEGIN:VEVENT
DTSTART;TZID=Europe/Helsinki:20150616T193000
DTEND;TZID=Europe/Helsinki:20150616T235500
DTSTAMP:20260419T211346
CREATED:20150528T135818Z
LAST-MODIFIED:20150609T073002Z
UID:22531-1434483000-1434498900@www.heteroclite.org
SUMMARY:Inauguration du Centre LGBTI de Lyon
DESCRIPTION:Le centre LGBTI de Lyon fait peau neuve…\n  \nRendez-vous le 16 juin avec les vingt-cinq associations membres pour une inauguration sous le signe de la fête !
URL:https://www.heteroclite.org/evenement-heteroclite/inauguration-du-centre-lgbti-de-lyon
LOCATION:Centre LGBTI de Lyon\, 19 rue des Capucins\, Lyon 1\, Rhône-Alpes\, 69001\, France
END:VEVENT
END:VCALENDAR