BEGIN:VCALENDAR
VERSION:2.0
PRODID:-//Hétéroclite - ECPv5.16.1.1//NONSGML v1.0//EN
CALSCALE:GREGORIAN
METHOD:PUBLISH
X-WR-CALNAME:Hétéroclite
X-ORIGINAL-URL:https://www.heteroclite.org
X-WR-CALDESC:évènements pour Hétéroclite
BEGIN:VTIMEZONE
TZID:Europe/Helsinki
BEGIN:DAYLIGHT
TZOFFSETFROM:+0200
TZOFFSETTO:+0300
TZNAME:EEST
DTSTART:20150329T010000
END:DAYLIGHT
BEGIN:STANDARD
TZOFFSETFROM:+0300
TZOFFSETTO:+0200
TZNAME:EET
DTSTART:20151025T010000
END:STANDARD
END:VTIMEZONE
BEGIN:VEVENT
DTSTART;TZID=Europe/Helsinki:20150526T183000
DTEND;TZID=Europe/Helsinki:20150526T183000
DTSTAMP:20260423T114855
CREATED:20150526T130630Z
LAST-MODIFIED:20150526T130630Z
UID:22450-1432665000-1432665000@www.heteroclite.org
SUMMARY:Initiation Rugby Spéciale Marche des Fiertés
DESCRIPTION:Initiation au Rugby ce soir à Grenoble !\n  \nRendez-vous au parc Paul Mistral\, ce mardi 26 mai à 18h30\, pour participer à l’initiation rugby de la Mêlée ! Organisée dans le cadre de la Marche des Fiertés du Centre LGBT Cigale\, pour dire “Je suis rugbyman/rugbywoman et gay/lesbienne/bi/trans” !\nSuivi d’un pique-nique partagé\, sur place\, avec A Jeu Egal
URL:https://www.heteroclite.org/evenement-heteroclite/initiation-rugby-speciale-marche-des-fiertes
LOCATION:Parc Paul Mistral\, 3 rue Malakoff\, Grenoble\, 38100\, France Métropolitaine
ORGANIZER;CN="%C3%80%20jeu%20%C3%A9gal":MAILTO:contact@ajeuegal.org
END:VEVENT
END:VCALENDAR