BEGIN:VCALENDAR
VERSION:2.0
PRODID:-//Hétéroclite - ECPv5.16.1.1//NONSGML v1.0//EN
CALSCALE:GREGORIAN
METHOD:PUBLISH
X-WR-CALNAME:Hétéroclite
X-ORIGINAL-URL:https://www.heteroclite.org
X-WR-CALDESC:évènements pour Hétéroclite
BEGIN:VTIMEZONE
TZID:Europe/Helsinki
BEGIN:DAYLIGHT
TZOFFSETFROM:+0200
TZOFFSETTO:+0300
TZNAME:EEST
DTSTART:20170326T010000
END:DAYLIGHT
BEGIN:STANDARD
TZOFFSETFROM:+0300
TZOFFSETTO:+0200
TZNAME:EET
DTSTART:20171029T010000
END:STANDARD
END:VTIMEZONE
BEGIN:VEVENT
DTSTART;TZID=Europe/Helsinki:20170714T140000
DTEND;TZID=Europe/Helsinki:20170714T200000
DTSTAMP:20260421T141758
CREATED:20170616T150226Z
LAST-MODIFIED:20170616T150523Z
UID:44266-1500040800-1500062400@www.heteroclite.org
SUMMARY:Intérieur Queer x Garden Partits ! La kermesse pour adultEs
DESCRIPTION:Dans le cadre du festival Intérieur Queer\, le collectif Dynastits propose une Kermesse pour adultEs à la Cour de la Cordée et Aremacs le vendredi 14 juillet.\nLe collectif Dynastits célèbre la fête nationale avec une Kermesse pour adultEs qui s’inscrit dans le festival Intérieur Queer. La devise “Libertits\, Égalitits\, Sororitits” rythmera la journée mais pas que. Ce sont tout un tas d’ateliers (coloriage Pimp my chatte\, création de badge coquin\, etc.) et autres animations qui sont prévues. L’entrée est en prix libre.  \n 
URL:https://www.heteroclite.org/evenement-heteroclite/interieur-queer-kermesse-pour-adultes
LOCATION:Cour de La Cordée et AREMACS\, 19 Rue Père Chevrier\, Lyon 7\, 69007\, France
END:VEVENT
END:VCALENDAR