BEGIN:VCALENDAR
VERSION:2.0
PRODID:-//Hétéroclite - ECPv5.16.1.1//NONSGML v1.0//EN
CALSCALE:GREGORIAN
METHOD:PUBLISH
X-WR-CALNAME:Hétéroclite
X-ORIGINAL-URL:https://www.heteroclite.org
X-WR-CALDESC:évènements pour Hétéroclite
BEGIN:VTIMEZONE
TZID:Europe/Helsinki
BEGIN:DAYLIGHT
TZOFFSETFROM:+0200
TZOFFSETTO:+0300
TZNAME:EEST
DTSTART:20170326T010000
END:DAYLIGHT
BEGIN:STANDARD
TZOFFSETFROM:+0300
TZOFFSETTO:+0200
TZNAME:EET
DTSTART:20171029T010000
END:STANDARD
END:VTIMEZONE
BEGIN:VEVENT
DTSTART;TZID=Europe/Helsinki:20170716T113000
DTEND;TZID=Europe/Helsinki:20170716T160000
DTSTAMP:20260423T191359
CREATED:20170621T125632Z
LAST-MODIFIED:20170621T125632Z
UID:44471-1500204600-1500220800@www.heteroclite.org
SUMMARY:Jean Cock la nuit - Intérieur Queer - À la piscine
DESCRIPTION:Un bon repas convivial est organisé au restaurant  À la piscine avec le chef Jean Cock la nuit pour clore le Festival Intérieur Queer le 16 juillet.\nDans le cadre du restaurant À La Piscine\, un moment convivial et gourmand est organisé. Et parce que la cuisine peut également être queer\, Jean Cock La Nuit\, chef cuisinier\, saura relever le défis d’allier thé-matiques queer et saveurs du palais. \nSur réservation à bonjour@alapiscine.eu.
URL:https://www.heteroclite.org/evenement-heteroclite/jean-cock-la-nuit-interieur-queer-a-piscine
LOCATION:À La Piscine\, 8 Quai Claude Bernard\, Lyon 7\, 69007\, France
END:VEVENT
END:VCALENDAR