BEGIN:VCALENDAR
VERSION:2.0
PRODID:-//Hétéroclite - ECPv5.16.1.1//NONSGML v1.0//EN
CALSCALE:GREGORIAN
METHOD:PUBLISH
X-WR-CALNAME:Hétéroclite
X-ORIGINAL-URL:https://www.heteroclite.org
X-WR-CALDESC:évènements pour Hétéroclite
BEGIN:VTIMEZONE
TZID:Europe/Helsinki
BEGIN:DAYLIGHT
TZOFFSETFROM:+0200
TZOFFSETTO:+0300
TZNAME:EEST
DTSTART:20170326T010000
END:DAYLIGHT
BEGIN:STANDARD
TZOFFSETFROM:+0300
TZOFFSETTO:+0200
TZNAME:EET
DTSTART:20171029T010000
END:STANDARD
END:VTIMEZONE
BEGIN:VEVENT
DTSTART;TZID=Europe/Helsinki:20170224T183000
DTEND;TZID=Europe/Helsinki:20170224T210000
DTSTAMP:20260420T212054
CREATED:20131209T144424Z
LAST-MODIFIED:20170209T195130Z
UID:37773-1487961000-1487970000@www.heteroclite.org
SUMMARY:Débat avec Jean-Luc Roméro-Michel organisé par le Forum gay et lesbien
DESCRIPTION:Le Forum gay et lesbien de Lyon accueille Jean-Luc Roméro-Michel\, président-fondateur de l’association Élus Locaux Contre Le Sida (ELCS)\, pour parler de son livre SurVivant : mes 30 ans avec le sida.\nJean-Luc Roméro-Michel parlera de sa lutte contre cette maladie et vous aurez l’occasion d’échanger avec lui sur ce thème. \nAssociation militante défendant les droits des LGBT\, le Forum gay et lesbien est un espace d’ouverture et d’échanges pour mieux faire connaître et comprendre l’homosexualité au sein de notre société. Il organise de nombreuses manifestations ainsi que des activités conviviales pour favoriser rencontres et discussions.
URL:https://www.heteroclite.org/evenement-heteroclite/jean-luc-romero-michel-lyon-fgl
LOCATION:Centre LGBTI de Lyon\, 19 rue des Capucins\, Lyon 1\, Rhône-Alpes\, 69001\, France
ORGANIZER;CN="Forum%20gay%20et%20lesbien":MAILTO:contact@fgllyon.org
END:VEVENT
END:VCALENDAR