BEGIN:VCALENDAR
VERSION:2.0
PRODID:-//Hétéroclite - ECPv5.16.1.1//NONSGML v1.0//EN
CALSCALE:GREGORIAN
METHOD:PUBLISH
X-WR-CALNAME:Hétéroclite
X-ORIGINAL-URL:https://www.heteroclite.org
X-WR-CALDESC:évènements pour Hétéroclite
BEGIN:VTIMEZONE
TZID:Europe/Helsinki
BEGIN:DAYLIGHT
TZOFFSETFROM:+0200
TZOFFSETTO:+0300
TZNAME:EEST
DTSTART:20150329T010000
END:DAYLIGHT
BEGIN:STANDARD
TZOFFSETFROM:+0300
TZOFFSETTO:+0200
TZNAME:EET
DTSTART:20151025T010000
END:STANDARD
END:VTIMEZONE
BEGIN:VEVENT
DTSTART;TZID=Europe/Helsinki:20150520T183000
DTEND;TZID=Europe/Helsinki:20150520T230000
DTSTAMP:20260423T231341
CREATED:20150507T070056Z
LAST-MODIFIED:20150507T070426Z
UID:22034-1432146600-1432162800@www.heteroclite.org
SUMMARY:Lancement de la Semaine des Fiertés à Grenoble
DESCRIPTION:Le Centre LGBT CIGALE et la municipalité de Grenoble vous invitent à participer au lancement de la Semaine des Fiertés le 20 mai 2015. A cette occasion\, l’association SOS Homophobie présentera son rapport annuel des homophobies. Une exposition et une animation musicale vous seront également proposées.\n  \n Programme : \n– Inauguration de l’exposition Le Projet 17 : Des BD contre les LGBTphobies \n– Présentation du rapport annuel des homophobie par SOS Homophobie \n– Intervention du chœur Free Sons \n  \nL’exposition Le Projet 17 sera visible par la suite du 20 au 28 mai 2015 dans le hall d’honneur de l’Hôtel de ville du lundi au vendredi de 09h00 à 18h00. \n 
URL:https://www.heteroclite.org/evenement-heteroclite/lancement-de-la-semaine-des-fiertes-a-grenoble
LOCATION:Salons de l’Hôtel de ville\, 11 Boulevard Jean Pain\, Grenoble\, 38000\, France
ORGANIZER;CN="Centre%20LGBTI%20de%20Grenoble%20-%20CIGALE":MAILTO:contact@grenoble-fiertes.com
END:VEVENT
END:VCALENDAR