BEGIN:VCALENDAR
VERSION:2.0
PRODID:-//Hétéroclite - ECPv5.16.1.1//NONSGML v1.0//EN
CALSCALE:GREGORIAN
METHOD:PUBLISH
X-WR-CALNAME:Hétéroclite
X-ORIGINAL-URL:https://www.heteroclite.org
X-WR-CALDESC:évènements pour Hétéroclite
BEGIN:VTIMEZONE
TZID:Europe/Helsinki
BEGIN:DAYLIGHT
TZOFFSETFROM:+0200
TZOFFSETTO:+0300
TZNAME:EEST
DTSTART:20150329T010000
END:DAYLIGHT
BEGIN:STANDARD
TZOFFSETFROM:+0300
TZOFFSETTO:+0200
TZNAME:EET
DTSTART:20151025T010000
END:STANDARD
END:VTIMEZONE
BEGIN:VEVENT
DTSTART;TZID=Europe/Helsinki:20150606T235500
DTEND;TZID=Europe/Helsinki:20150607T060000
DTSTAMP:20260424T111304
CREATED:20150602T074932Z
LAST-MODIFIED:20150602T074932Z
UID:22947-1433634900-1433656800@www.heteroclite.org
SUMMARY:Lancement des cocktails @ QG Club
DESCRIPTION:Le QG – Club ouvert d’esprit vous donne rendez-vous ce samedi 6 juin pour la soirée de lancement de ses cocktails !\n  \nLe lieu est sécurisé et le seul mot d’ordre est la fête !
URL:https://www.heteroclite.org/evenement-heteroclite/lancement-des-cocktails-qg-club
END:VEVENT
END:VCALENDAR