BEGIN:VCALENDAR
VERSION:2.0
PRODID:-//Hétéroclite - ECPv5.16.1.1//NONSGML v1.0//EN
CALSCALE:GREGORIAN
METHOD:PUBLISH
X-WR-CALNAME:Hétéroclite
X-ORIGINAL-URL:https://www.heteroclite.org
X-WR-CALDESC:évènements pour Hétéroclite
BEGIN:VTIMEZONE
TZID:Europe/Helsinki
BEGIN:DAYLIGHT
TZOFFSETFROM:+0200
TZOFFSETTO:+0300
TZNAME:EEST
DTSTART:20180325T010000
END:DAYLIGHT
BEGIN:STANDARD
TZOFFSETFROM:+0300
TZOFFSETTO:+0200
TZNAME:EET
DTSTART:20181028T010000
END:STANDARD
END:VTIMEZONE
BEGIN:VEVENT
DTSTART;TZID=Europe/Helsinki:20181206T210000
DTEND;TZID=Europe/Helsinki:20181209T235500
DTSTAMP:20260425T164659
CREATED:20181128T155811Z
LAST-MODIFIED:20181128T161313Z
UID:55639-1544130000-1544399700@www.heteroclite.org
SUMMARY:Les Illuminé·e·s du Live remercient Marie @ Livestation DIY
DESCRIPTION:Pour la fête des Lumières\, le Livestation DIY a concocté un programme alléchant. Pendant 4 jours\, le Live sera un terrain propice à la créativité.\n  \nAteliers\, concerts\, djs set\, voilà le programme du Live pour ces journées froides et bondées de décembre. Voici les invités : Aybee\, We Play Vinyl\, Krea\, Arsène Marquis\, Lazy Robots et Cosmodule. Vous pouvez retrouver le détail de la programmation sur Facebook.
URL:https://www.heteroclite.org/evenement-heteroclite/les-illumines-du-live-remercient-marie-livestation-diy
LOCATION:LiveStation-DIY\, 14 rue de Bonald\, Lyon 7\, Rhône-Alpes\, 69007\, France
END:VEVENT
END:VCALENDAR