BEGIN:VCALENDAR
VERSION:2.0
PRODID:-//Hétéroclite - ECPv5.16.1.1//NONSGML v1.0//EN
CALSCALE:GREGORIAN
METHOD:PUBLISH
X-WR-CALNAME:Hétéroclite
X-ORIGINAL-URL:https://www.heteroclite.org
X-WR-CALDESC:évènements pour Hétéroclite
BEGIN:VTIMEZONE
TZID:Europe/Helsinki
BEGIN:DAYLIGHT
TZOFFSETFROM:+0200
TZOFFSETTO:+0300
TZNAME:EEST
DTSTART:20180325T010000
END:DAYLIGHT
BEGIN:STANDARD
TZOFFSETFROM:+0300
TZOFFSETTO:+0200
TZNAME:EET
DTSTART:20181028T010000
END:STANDARD
END:VTIMEZONE
BEGIN:VEVENT
DTSTART;TZID=Europe/Helsinki:20180615T190000
DTEND;TZID=Europe/Helsinki:20180615T220000
DTSTAMP:20260423T200949
CREATED:20180608T133421Z
LAST-MODIFIED:20180608T133421Z
UID:52218-1529089200-1529100000@www.heteroclite.org
SUMMARY:Participez au Meuf-in Stage au Rita-Plage
DESCRIPTION:Le Meuf-In Stage est né de l’envie de voir se produire plus de meufs sur scène\, que tu sois performeuse\, chanteuse lyrique ou de garage\, que tu fasses du gros hip hop ou de soul\, que tu tâtes la marionnette\, la scie musicale\, du drag king ou de la ratte d’opérette\, le Meuf-in Stage t’invite à venir te faire plaisir\, brûler les planches et vomir des paillettes !\nPour ce Meuf-in Stage\, la scène sera en non mixité choisie meufs/gouines/trans\, avec un public Mixte au Rita-Plage. \nSPECTACLES VIVANTES\, venez à l’heure ! \n19h // VERNISSAGE EVAPOPO // Linogravures\, que vous pouvez retrouver ici !\nExposition visible jusqu’au 30 juillet \n19H30 // Il fait nuit\, et je suis journaliste ténébriste // Lecture (30min) par Adeline Arénas\n“Ecrire des articles sur des créatures surnaturelles\, côtoyer des vampires et interviewer des fantômes : finalement\, c’est un boulot comme un autre… ou presque.”\nAprès avoir publié un roman (Clothilde & Adhémar) et écrit trois pièces de théâtre (dont Le Vampire de la rue Morgue pour le Théâtre Ishtar)\, Adeline Arénas replonge dans l’univers gothique pour vous raconter (pour la première fois en live) le quotidien d’une journaliste un peu particulière\, avec une bonne dose d’humour et de féminisme. \n20h30 // Bouffe végé prix libre \n21h // Myriam Davelu // Slam \n“Mon objectif c’est de sensibiliser et faire changer le regard sur les malades de Parkinson en utilisant l’humour et l’auto-dérision (…) J’aime le décal’âge” \n21h30 // Les Chutes du Rhin // Moulewave (Lille) \nDécouvrez déjà quelques sons ici !  \nSoirée à PRIX LIBRE\nBouffe végé\nGent.e.s gentilles et terrasse
URL:https://www.heteroclite.org/evenement-heteroclite/meuf-in-stage-au-rita-plage
LOCATION:Rita-Plage\, 68 cours Tolstoï\, Villeurbanne\, 69100\, France
END:VEVENT
END:VCALENDAR