BEGIN:VCALENDAR
VERSION:2.0
PRODID:-//Hétéroclite - ECPv5.16.1.1//NONSGML v1.0//EN
CALSCALE:GREGORIAN
METHOD:PUBLISH
X-WR-CALNAME:Hétéroclite
X-ORIGINAL-URL:https://www.heteroclite.org
X-WR-CALDESC:évènements pour Hétéroclite
BEGIN:VTIMEZONE
TZID:Europe/Helsinki
BEGIN:DAYLIGHT
TZOFFSETFROM:+0200
TZOFFSETTO:+0300
TZNAME:EEST
DTSTART:20160327T010000
END:DAYLIGHT
BEGIN:STANDARD
TZOFFSETFROM:+0300
TZOFFSETTO:+0200
TZNAME:EET
DTSTART:20161030T010000
END:STANDARD
END:VTIMEZONE
BEGIN:VEVENT
DTSTART;TZID=Europe/Helsinki:20161002T180000
DTEND;TZID=Europe/Helsinki:20161002T235500
DTSTAMP:20260425T141700
CREATED:20150423T135402Z
LAST-MODIFIED:20160926T110559Z
UID:23881-1475431200-1475452500@www.heteroclite.org
SUMMARY:Naked/Fetish Sex Party avec Fabien Crunchboy au Men Club
DESCRIPTION:Avec Fabien Crunchboy. Distribution de goodies et de cadeaux.\nDirigé par le très sympathique François\, le Men Club propose des soirées “Adam” (naturistes) le dimanche\, plusieurs soirées à thème (“gang-bang”\, “black-out”\, “bears”\, “sport 100% dépravé”) en alternance le jeudi et divers événements le week-end (sessions uro\, bondage\, fist-fucking\, etc.). Ce bar et sex-club associatif dispose de nombreux équipements\, tous d’une hygiène irréprochable : des slings\, une backroom\, une zone uro\, un palan et ses accessoires\, une cage… Le Men Club accueille régulièrement des acteurs X\, dont Fabien Crunchboy et bien d’autres. \nwww.lemenclub.com
URL:https://www.heteroclite.org/evenement-heteroclite/naked-sex-party-fabien-crunchboy
END:VEVENT
END:VCALENDAR