BEGIN:VCALENDAR
VERSION:2.0
PRODID:-//Hétéroclite - ECPv5.16.1.1//NONSGML v1.0//EN
CALSCALE:GREGORIAN
METHOD:PUBLISH
X-WR-CALNAME:Hétéroclite
X-ORIGINAL-URL:https://www.heteroclite.org
X-WR-CALDESC:évènements pour Hétéroclite
BEGIN:VTIMEZONE
TZID:Europe/Helsinki
BEGIN:DAYLIGHT
TZOFFSETFROM:+0200
TZOFFSETTO:+0300
TZNAME:EEST
DTSTART:20150329T010000
END:DAYLIGHT
BEGIN:STANDARD
TZOFFSETFROM:+0300
TZOFFSETTO:+0200
TZNAME:EET
DTSTART:20151025T010000
END:STANDARD
END:VTIMEZONE
BEGIN:VEVENT
DTSTART;TZID=Europe/Helsinki:20150522T093000
DTEND;TZID=Europe/Helsinki:20150522T180000
DTSTAMP:20260419T155346
CREATED:20150511T125513Z
LAST-MODIFIED:20170521T120707Z
UID:22131-1432287000-1432317600@www.heteroclite.org
SUMMARY:Atelier "Out of the closets\, into the streets" à l'ENS
DESCRIPTION:Le laboratoire Genere vous propose un atelier qui traitera de l’articulation entre genre\, image et militantisme à l’ENS de Lyon.\nAu programme de cette journée à l’ENS : \nMatinée\n9h30 – 10h30 : Ouverture de la journée\, présentation des Sœurs de la Perpétuelle Indulgence\, intervention de La Barbe\nPause\n10h45 – 12h : Discussion avec Hélène Hazéra\, « Luttes collectives et luttes de pouvoir\, souvenirs et réflexions d’une activiste trans post 68 »\n12h – 12h30 : Questions et interventions de la salle\nPause déjeuner \nAprès – midi\n14h – 15h30\, Salle 1 : Atelier des Sœurs de la Perpétuelle Indulgence\n14h – 15h30\, Salle 2 : Projections de films documentaires de La Barbe et des Sœurs de la Perpétuelle Indulgence et discussion libre avec les intervenant.e.s\nPause café\n16h – 18h : Débat avec Hélène Hazéra\, les Sœurs de la Perpétuelle Indulgence et La Barbe\n \n  \n\n  \nUne soirée aura également lieu de 20h à minuit au Centre LGBTI de Lyon \n19 rue des Capucins 69001 LYON
URL:https://www.heteroclite.org/evenement-heteroclite/out-of-the-closets-into-the-streets-ens
LOCATION:ENS de Lyon\, 15 Parvis René Descartes\, Lyon\, 69007\, France
END:VEVENT
END:VCALENDAR