BEGIN:VCALENDAR
VERSION:2.0
PRODID:-//Hétéroclite - ECPv5.16.1.1//NONSGML v1.0//EN
CALSCALE:GREGORIAN
METHOD:PUBLISH
X-WR-CALNAME:Hétéroclite
X-ORIGINAL-URL:https://www.heteroclite.org
X-WR-CALDESC:évènements pour Hétéroclite
BEGIN:VTIMEZONE
TZID:Europe/Helsinki
BEGIN:DAYLIGHT
TZOFFSETFROM:+0200
TZOFFSETTO:+0300
TZNAME:EEST
DTSTART:20150329T010000
END:DAYLIGHT
BEGIN:STANDARD
TZOFFSETFROM:+0300
TZOFFSETTO:+0200
TZNAME:EET
DTSTART:20151025T010000
END:STANDARD
END:VTIMEZONE
BEGIN:VEVENT
DTSTART;TZID=Europe/Helsinki:20150606T235500
DTEND;TZID=Europe/Helsinki:20150607T060000
DTSTAMP:20260420T160121
CREATED:20150529T062013Z
LAST-MODIFIED:20150722T181131Z
UID:22549-1433634900-1433656800@www.heteroclite.org
SUMMARY:Ouverture du Bellona Club
DESCRIPTION:  \nAk Family est heureux de vous annoncer l’ouverture du Bellona CLUB\n  \nEn activité depuis un an avec son restaurant semi-gastronomique \,son bar festif et sa plage\, le bateau Bellona ouvrira son Club au public tous les samedis à partir du 6 juin. \nSitué au niveau de la cale su bateau \, le Bellona club acceuillera chaque week-end les noctanbules dans un espace tout récent pour une capacitée de 400 personnes équipé d’un plafond à led et d’un sound system Ohm de 4 subs bass de 2k et 4 satellites de 650 watts. Aux commandes du Club \, Gregory Armato et toute l’équipe Elektro System (Hypnotik & Destructuré) ainsi que Ak family tout fraichement arrivé après avoir quitté la Direction Artistique du DV1 .. \nPas de Soucis donc pour la qualité de programmation qui verra quand meme défiler tout l?été la crème des Djs locaux … Si l’on ajoute à cela le bar festif à l’étage (meme équipement que le club) d’une terrasse panoramique (de la même capacité) ainsi qu’un parking privatif surveillé\, tout porte à croire que ce nouveau lieu pourrait vite devenir l’un des club de référence dès cette rentrée 2015.. \nCerise sur le gateau\, l’entrée sera libre tout l’été\, toutefois il faudra justifier ces 21 ans à l’entrée\, pour les autres \, il faudra s’armer de patience.. \n  \nPROGRAMME Bellona CLUB / JUIN
URL:https://www.heteroclite.org/evenement-heteroclite/ouverture-du-bellona-club
LOCATION:Le Bellona\, 100 quai Perrache\, Lyon 2\, Rhône-Alpes\, 69002\, France
END:VEVENT
END:VCALENDAR