BEGIN:VCALENDAR
VERSION:2.0
PRODID:-//Hétéroclite - ECPv5.16.1.1//NONSGML v1.0//EN
CALSCALE:GREGORIAN
METHOD:PUBLISH
X-WR-CALNAME:Hétéroclite
X-ORIGINAL-URL:https://www.heteroclite.org
X-WR-CALDESC:évènements pour Hétéroclite
BEGIN:VTIMEZONE
TZID:Europe/Helsinki
BEGIN:DAYLIGHT
TZOFFSETFROM:+0200
TZOFFSETTO:+0300
TZNAME:EEST
DTSTART:20140330T010000
END:DAYLIGHT
BEGIN:STANDARD
TZOFFSETFROM:+0300
TZOFFSETTO:+0200
TZNAME:EET
DTSTART:20141026T010000
END:STANDARD
END:VTIMEZONE
BEGIN:VEVENT
DTSTART;TZID=Europe/Helsinki:20140622T160000
DTEND;TZID=Europe/Helsinki:20140622T170000
DTSTAMP:20260421T015715
CREATED:20140615T153139Z
LAST-MODIFIED:20161230T163122Z
UID:10745-1403452800-1403456400@www.heteroclite.org
SUMMARY:Panic Open Air par La Garçonnière
DESCRIPTION:  \nPanic Open Air\, un événement organisé par les soirées La Garçonnière sur trois niveaux.\n  \nSur le pont\, lounge floor (détente\, bar à cocktails\, terrasse\, panoramique et transats). Niveau 0 : pop floor avec Röman Loki et Mister Wahren (résidents La Garçonnière). Niveau -1 : house floor avec Dean McEnny\, Peel\, Will Arkonen\, Mike Tomillo.
URL:https://www.heteroclite.org/evenement-heteroclite/panic-open-air-garconniere
LOCATION:Le Bellona\, 100 quai Perrache\, Lyon 2\, Rhône-Alpes\, 69002\, France
END:VEVENT
END:VCALENDAR