BEGIN:VCALENDAR
VERSION:2.0
PRODID:-//Hétéroclite - ECPv5.16.1.1//NONSGML v1.0//EN
CALSCALE:GREGORIAN
METHOD:PUBLISH
X-WR-CALNAME:Hétéroclite
X-ORIGINAL-URL:https://www.heteroclite.org
X-WR-CALDESC:évènements pour Hétéroclite
BEGIN:VTIMEZONE
TZID:Europe/Helsinki
BEGIN:DAYLIGHT
TZOFFSETFROM:+0200
TZOFFSETTO:+0300
TZNAME:EEST
DTSTART:20160327T010000
END:DAYLIGHT
BEGIN:STANDARD
TZOFFSETFROM:+0300
TZOFFSETTO:+0200
TZNAME:EET
DTSTART:20161030T010000
END:STANDARD
END:VTIMEZONE
BEGIN:VEVENT
DTSTART;TZID=Europe/Helsinki:20160408T180000
DTEND;TZID=Europe/Helsinki:20160408T235500
DTSTAMP:20260421T124030
CREATED:20131209T144308Z
LAST-MODIFIED:20160408T142917Z
UID:26381-1460138400-1460159700@www.heteroclite.org
SUMMARY:Permanence de Keep Smiling
DESCRIPTION:Permanence d’accueil de Keep Smiling (association pour la réduction des risques en milieu festif). Dj’s : Psykotek (Kolektif Zoulou)\, Spacetracker (EkoX6tm) et Moonshaker (Unis.Son). Show transformiste par Katyne. Avec les Sœurs de la Perpétuelle Indulgence.\nL’association Keep Smiling (www.keep-smiling.com) propose une documentation sur la réduction des risques en matière de sexualité\, des informations et des conseils à destination de la communauté LGBT.
URL:https://www.heteroclite.org/evenement-heteroclite/permanence-de-keep-smiling-2016-04-08
LOCATION:Le Lavoir public\, 4 impasse Flesselles\, Lyon 1\, Rhône-Alpes\, 69001\, France
END:VEVENT
END:VCALENDAR