BEGIN:VCALENDAR
VERSION:2.0
PRODID:-//Hétéroclite - ECPv5.16.1.1//NONSGML v1.0//EN
CALSCALE:GREGORIAN
METHOD:PUBLISH
X-WR-CALNAME:Hétéroclite
X-ORIGINAL-URL:https://www.heteroclite.org
X-WR-CALDESC:évènements pour Hétéroclite
BEGIN:VTIMEZONE
TZID:Europe/Helsinki
BEGIN:DAYLIGHT
TZOFFSETFROM:+0200
TZOFFSETTO:+0300
TZNAME:EEST
DTSTART:20160327T010000
END:DAYLIGHT
BEGIN:STANDARD
TZOFFSETFROM:+0300
TZOFFSETTO:+0200
TZNAME:EET
DTSTART:20161030T010000
END:STANDARD
END:VTIMEZONE
BEGIN:VEVENT
DTSTART;TZID=Europe/Helsinki:20160813T150000
DTEND;TZID=Europe/Helsinki:20160813T180000
DTSTAMP:20260423T131910
CREATED:20131211T094143Z
LAST-MODIFIED:20160907T122417Z
UID:32631-1471100400-1471111200@www.heteroclite.org
SUMMARY:Permanence de SOS Homophobie Lyon
DESCRIPTION:Pour tous ceux qui veulent militer à SOS Homophobie Lyon ou connaître un peu plus l’association.\nSOS Homophobie Lyon met une ligne d’écoute et un mail à disposition des victimes d’agressions ou de discriminations homophobes et anime également l’Observatoire de l’Homophobie.
URL:https://www.heteroclite.org/evenement-heteroclite/permanence-de-sos-homophobie-lyon-2016-08-13
LOCATION:Centre LGBTI de Lyon\, 19 rue des Capucins\, Lyon 1\, Rhône-Alpes\, 69001\, France
END:VEVENT
END:VCALENDAR