BEGIN:VCALENDAR
VERSION:2.0
PRODID:-//Hétéroclite - ECPv5.16.1.1//NONSGML v1.0//EN
CALSCALE:GREGORIAN
METHOD:PUBLISH
X-WR-CALNAME:Hétéroclite
X-ORIGINAL-URL:https://www.heteroclite.org
X-WR-CALDESC:évènements pour Hétéroclite
BEGIN:VTIMEZONE
TZID:Europe/Helsinki
BEGIN:DAYLIGHT
TZOFFSETFROM:+0200
TZOFFSETTO:+0300
TZNAME:EEST
DTSTART:20170326T010000
END:DAYLIGHT
BEGIN:STANDARD
TZOFFSETFROM:+0300
TZOFFSETTO:+0200
TZNAME:EET
DTSTART:20171029T010000
END:STANDARD
END:VTIMEZONE
BEGIN:VEVENT
DTSTART;TZID=Europe/Helsinki:20170208T160000
DTEND;TZID=Europe/Helsinki:20170208T180000
DTSTAMP:20260419T181807
CREATED:20160601T075237Z
LAST-MODIFIED:20170102T203508Z
UID:37267-1486569600-1486576800@www.heteroclite.org
SUMMARY:Permanence trans du RITA
DESCRIPTION:Le RITA (Ressort Intersexe et Trans en Action) vous invite à cette permanence trans en non mixité personnes trans et/ou en questionnement.\n\nLe RITA tient permanence chaque deuxième mercredi du mois au Planning familial de Grenoble et chaque quatrième mardi du mois au Centre LGBTI de Grenoble. \nwww.facebook.com/Accueil-Trans-Grenoble-102173563453269
URL:https://www.heteroclite.org/evenement-heteroclite/permanence-trans-grenoble-rita-2017-02-08
LOCATION:Planning Familial de Grenoble\, 30 boulevard Gambetta\, Grenoble\, 38000\, France
ORGANIZER;CN="RITA":MAILTO:accueil-trans-grenoble@riseup.net
END:VEVENT
END:VCALENDAR