BEGIN:VCALENDAR
VERSION:2.0
PRODID:-//Hétéroclite - ECPv5.16.1.1//NONSGML v1.0//EN
CALSCALE:GREGORIAN
METHOD:PUBLISH
X-WR-CALNAME:Hétéroclite
X-ORIGINAL-URL:https://www.heteroclite.org
X-WR-CALDESC:évènements pour Hétéroclite
BEGIN:VTIMEZONE
TZID:Europe/Helsinki
BEGIN:DAYLIGHT
TZOFFSETFROM:+0200
TZOFFSETTO:+0300
TZNAME:EEST
DTSTART:20150329T010000
END:DAYLIGHT
BEGIN:STANDARD
TZOFFSETFROM:+0300
TZOFFSETTO:+0200
TZNAME:EET
DTSTART:20151025T010000
END:STANDARD
END:VTIMEZONE
BEGIN:VEVENT
DTSTART;TZID=Europe/Helsinki:20150521T203000
DTEND;TZID=Europe/Helsinki:20150521T235500
DTSTAMP:20260423T191031
CREATED:20150512T082934Z
LAST-MODIFIED:20150512T082934Z
UID:22150-1432240200-1432252500@www.heteroclite.org
SUMMARY:Préparation de la " Manif pour rien "
DESCRIPTION:  \nDans le cadre de la semaine des fiertés de Grenoble\, le Centre LGBT CIGALE vous invite à venir préparer la “Manif pour rien” le jeudi 21 mai.\n  \n“La Manif pour rien” sera une manifestation parodique. Son but est de déconstruire les arguments des opposants aux droits LGBT. A cette occasion\, le CIGALE vous propose de venir élaborer des déguisements\, des personnages à incarner\, des slogans chocs et pertinents\, ainsi que des pancartes… \n  \nAvis aux esprits créatifs !
URL:https://www.heteroclite.org/evenement-heteroclite/preparation-de-la-manif-pour-rien
LOCATION:Centre LGBTI de Grenoble – CIGALE\, 8 rue du Sergent Bobillot\, Grenoble\, 38000\, France
ORGANIZER;CN="Centre%20LGBTI%20de%20Grenoble%20-%20CIGALE":MAILTO:contact@grenoble-fiertes.com
END:VEVENT
END:VCALENDAR