BEGIN:VCALENDAR
VERSION:2.0
PRODID:-//Hétéroclite - ECPv5.16.1.1//NONSGML v1.0//EN
CALSCALE:GREGORIAN
METHOD:PUBLISH
X-WR-CALNAME:Hétéroclite
X-ORIGINAL-URL:https://www.heteroclite.org
X-WR-CALDESC:évènements pour Hétéroclite
BEGIN:VTIMEZONE
TZID:Europe/Helsinki
BEGIN:DAYLIGHT
TZOFFSETFROM:+0200
TZOFFSETTO:+0300
TZNAME:EEST
DTSTART:20150329T010000
END:DAYLIGHT
BEGIN:STANDARD
TZOFFSETFROM:+0300
TZOFFSETTO:+0200
TZNAME:EET
DTSTART:20151025T010000
END:STANDARD
END:VTIMEZONE
BEGIN:VEVENT
DTSTART;TZID=Europe/Helsinki:20151120T203000
DTEND;TZID=Europe/Helsinki:20151120T235500
DTSTAMP:20260421T111517
CREATED:20151116T093715Z
LAST-MODIFIED:20170307T082207Z
UID:27042-1448051400-1448063700@www.heteroclite.org
SUMMARY:Projection du documentaire "Gare aux transsexuels"
DESCRIPTION:À l’occasion de la Journée du Souvenir Trans (Transgender Day of Remembrance ou TDoR)\, Chrysalide et la Coordination des Groupes Anarchistes proposent une projection-débat-apéritif autour des transidentités et de la transphobie avec la projection de Gare aux transsexuels (Transsexual Menace\, États-Unis\, 1996)\, documentaire de Rosa Von Praunheim.
URL:https://www.heteroclite.org/evenement-heteroclite/projection-docu-gare-aux-transsexuels
LOCATION:La Plume noire\, 8 rue Diderot\, Lyon 1\, 69001\, France
END:VEVENT
END:VCALENDAR