BEGIN:VCALENDAR
VERSION:2.0
PRODID:-//Hétéroclite - ECPv5.16.1.1//NONSGML v1.0//EN
CALSCALE:GREGORIAN
METHOD:PUBLISH
X-WR-CALNAME:Hétéroclite
X-ORIGINAL-URL:https://www.heteroclite.org
X-WR-CALDESC:évènements pour Hétéroclite
BEGIN:VTIMEZONE
TZID:Europe/Helsinki
BEGIN:DAYLIGHT
TZOFFSETFROM:+0200
TZOFFSETTO:+0300
TZNAME:EEST
DTSTART:20170326T010000
END:DAYLIGHT
BEGIN:STANDARD
TZOFFSETFROM:+0300
TZOFFSETTO:+0200
TZNAME:EET
DTSTART:20171029T010000
END:STANDARD
END:VTIMEZONE
BEGIN:VEVENT
DTSTART;TZID=Europe/Helsinki:20170104T200000
DTEND;TZID=Europe/Helsinki:20170104T230000
DTSTAMP:20260419T181802
CREATED:20170103T150248Z
LAST-MODIFIED:20170103T150743Z
UID:38598-1483560000-1483570800@www.heteroclite.org
SUMMARY:Projection du film Oriented de Jake Witzenfeld
DESCRIPTION:ArcENSiel et Champ Libre ont l’immense plaisir de vous inviter à la projection du film documentaire israélien Oriented de Jake Witzendeld. Événement ouvert aux extérieurs.\nDans Oriented\, Khadir est un “petit chéri” de Tel-Aviv qui vient d’une famille musulmane mafieuse bien connue. Il vit avec son petit ami juif David et leur dalmatien Otis. Fadi est un nationaliste palestinien convaincu qui tombe amoureux d’un “sioniste” Israélien. Naim doit confronter sa famille et révéler la vérité à propos de sa sexualité. Tous les trois sont tourmentés par leur soif de changement face à une situation apparemment sans espoir. Pendant ce temps\, la menace de la guerre pèse… \nDéterminés à “changer leur réalité”\, les trois meilleurs amis forment un groupe appelé “Qambuta”\, un groupe de résistance culturelle non-violente qui se bat pour l’égalité des genres et des nationalités. A travers leur activisme\, ils posent la question de ce que cela veut dire de grandir avec le fardeau de la multiidentité. \nLa bande annonce et le site du film :\nhttps://www.youtube.com/watch?v=J0PKz3Qz9uw\nwww.orientedfilm.com \nLe film sera en version originale et les sous-titres en anglais.\nUne session Skype avec le réalisateur est prévue juste après la diffusion du film.
URL:https://www.heteroclite.org/evenement-heteroclite/projection-film-oriented-jake-witzenfeld
LOCATION:ENS de Lyon\, 15 Parvis René Descartes\, Lyon\, 69007\, France
ORGANIZER;CN="ArcENSiel":MAILTO:arcensiel.bureau@ens-lyon.fr
END:VEVENT
END:VCALENDAR