BEGIN:VCALENDAR
VERSION:2.0
PRODID:-//Hétéroclite - ECPv5.16.1.1//NONSGML v1.0//EN
CALSCALE:GREGORIAN
METHOD:PUBLISH
X-WR-CALNAME:Hétéroclite
X-ORIGINAL-URL:https://www.heteroclite.org
X-WR-CALDESC:évènements pour Hétéroclite
BEGIN:VTIMEZONE
TZID:Europe/Helsinki
BEGIN:DAYLIGHT
TZOFFSETFROM:+0200
TZOFFSETTO:+0300
TZNAME:EEST
DTSTART:20180325T010000
END:DAYLIGHT
BEGIN:STANDARD
TZOFFSETFROM:+0300
TZOFFSETTO:+0200
TZNAME:EET
DTSTART:20181028T010000
END:STANDARD
END:VTIMEZONE
BEGIN:VEVENT
DTSTART;TZID=Europe/Helsinki:20180623T170000
DTEND;TZID=Europe/Helsinki:20180623T230000
DTSTAMP:20260419T154516
CREATED:20180608T135218Z
LAST-MODIFIED:20180608T135218Z
UID:52237-1529773200-1529794800@www.heteroclite.org
SUMMARY:Projection du film "Les figures de l'ombre"
DESCRIPTION:Dans le cadre du Festival anti-patriarcal\, le Réseau des Femmes Afro-descendantes vous propose une projection du film Les figures de l’ombre (2016) réalisé par Theodore Melfi. \nLe film Les figures de l’ombre est l’adaptation du livre intitulé Hidden Figures de Margot Lee Shetterly mettant en scène la physicienne\, mathématicienne et ingénieure spatiale américaine Katherine Johnson qui a contribué aux programmes aéronautiques et spatiaux de la National Aeronautics and Space Administration (NASA). S’en suivra un débat sur les luttes afro-féministes.  \nDurant le Festival anti-patriarcal\, la CGA Lyon\, Super Féministe (Planning Familial)\, Le Réseau des femmes Afrodescendantes\, Les Méduses\, et Migrations\, Minorités Sexuelles et de Genre – 2MSG vous invitent à un mois et demi de projections de films suivis de discussions ouvertes et débats sur les multiples luttes anti-patriarcales !  \nChaque semaine: 1 film\, 1 débat = 1 thématique. Les personnes concernées sont prioritaires dans la parole et l’événement est ouvert à tous*tes. Ce festival est l’occasion d’échanger et de partager nos expériences de lutte\, c’est pourquoi les comportements discriminatoires et oppressifs (sexisme\, homophobie\, lesbophobie\, biphobie\, transphobie\, virilisme\, racisme\, mépris de classe\, grossophobie\, putophobie et validisme) ne sont pas tolérés.
URL:https://www.heteroclite.org/evenement-heteroclite/projection-les-figures-de-lombre
LOCATION:La Plume noire\, 8 rue Diderot\, Lyon 1\, 69001\, France
END:VEVENT
END:VCALENDAR