BEGIN:VCALENDAR
VERSION:2.0
PRODID:-//Hétéroclite - ECPv5.16.1.1//NONSGML v1.0//EN
CALSCALE:GREGORIAN
METHOD:PUBLISH
X-WR-CALNAME:Hétéroclite
X-ORIGINAL-URL:https://www.heteroclite.org
X-WR-CALDESC:évènements pour Hétéroclite
BEGIN:VTIMEZONE
TZID:Europe/Helsinki
BEGIN:DAYLIGHT
TZOFFSETFROM:+0200
TZOFFSETTO:+0300
TZNAME:EEST
DTSTART:20150329T010000
END:DAYLIGHT
BEGIN:STANDARD
TZOFFSETFROM:+0300
TZOFFSETTO:+0200
TZNAME:EET
DTSTART:20151025T010000
END:STANDARD
END:VTIMEZONE
BEGIN:VEVENT
DTSTART;TZID=Europe/Helsinki:20150518T190000
DTEND;TZID=Europe/Helsinki:20150518T230000
DTSTAMP:20260424T002356
CREATED:20150507T063354Z
LAST-MODIFIED:20150507T063509Z
UID:22032-1431975600-1431990000@www.heteroclite.org
SUMMARY:Rapport annuel et exposition de SOS Homophobie
DESCRIPTION:Le 18 mai\, l’association SOS homophobie présentera son rapport annuel sur l’homophobie et la transphobie en France. Elle proposera également une exposition nommée Petits papiers.\n  \nÀ l’occasion de la Journée mondiale contre l’homophobie et la transphobie du 17 mai 2015\, et comme chaque année\, l’association présentera son rapport annuel sur l’homophobie et la transphobie en France. Ce rapport 2015 est le seul document qui donne une image précise de la situation tant du point de vue des propos et des insultes que des actes et des crimes homophobes commis pendant l’année qui précède. \nBien que SOS homophobie semble s’ouvrir aux autres et aux différences\, des discriminations ne cessent d’être notées. C’est pourquoi l’association continue sa lutte en demeurant une sentinelle de l’homophobie en France. Elle poursuit ses actions telles que l’écoute des victimes et des témoins ainsi que l’information des jeunes. Elle maintient également les Interventions en Milieux Scolaires (I.M.S.) et Professionnels (I.F.P.A.) afin de sensibiliser un large public aux questions soulevées par les LGBT (Lesbiennes/Gays/Bisexuel-le-s/Trans) et de prévenir ainsi l’homophobie sous toutes ses formes. \nLors des interventions de SOS Homophobie en milieux scolaires\, les élèves sont amenés à poser des questions anonymes sur des petits papiers. Questions amusantes\, sérieuses\, provocatrices\, inquiétudes\, idées reçues\, elles sont d’autant plus passionnantes qu’elles sont finalement l’écho de ce sur quoi la plupart des personnes s’interrogent. \nVous êtes invités à les découvrir autour d’un verre lors du vernissage de l’exposition Petits Papiers qui suivra la présentation du rapport annuel.
URL:https://www.heteroclite.org/evenement-heteroclite/rapport-annuel-et-exposition-de-sos-homophobie
LOCATION:Centre LGBTI de Lyon\, 19 rue des Capucins\, Lyon 1\, Rhône-Alpes\, 69001\, France
END:VEVENT
END:VCALENDAR