BEGIN:VCALENDAR
VERSION:2.0
PRODID:-//Hétéroclite - ECPv5.16.1.1//NONSGML v1.0//EN
CALSCALE:GREGORIAN
METHOD:PUBLISH
X-WR-CALNAME:Hétéroclite
X-ORIGINAL-URL:https://www.heteroclite.org
X-WR-CALDESC:évènements pour Hétéroclite
BEGIN:VTIMEZONE
TZID:Europe/Helsinki
BEGIN:DAYLIGHT
TZOFFSETFROM:+0200
TZOFFSETTO:+0300
TZNAME:EEST
DTSTART:20170326T010000
END:DAYLIGHT
BEGIN:STANDARD
TZOFFSETFROM:+0300
TZOFFSETTO:+0200
TZNAME:EET
DTSTART:20171029T010000
END:STANDARD
END:VTIMEZONE
BEGIN:VEVENT
DTSTART;TZID=Europe/Helsinki:20170421T183000
DTEND;TZID=Europe/Helsinki:20170421T200000
DTSTAMP:20260424T175612
CREATED:20170414T141350Z
LAST-MODIFIED:20170414T164300Z
UID:41697-1492799400-1492804800@www.heteroclite.org
SUMMARY:Rassemblement de solidarité avec les gays de Tchétchénie à Lyon
DESCRIPTION:Rassemblement en soutien aux LGBTI de Tchétchénie organisé par des associations LGBTI et féministes\, des associations de santé communautaire et de lutte contre le VIH\, des syndicats et des partis politiques (liste rendue publique mardi après midi avec l’appel unitaire).\nDepuis début avril\, des nouvelles inquiétantes\, nous parviennent de Tchétchénie : des homosexuels (réels ou supposés) sont victimes d’arrestations\, de détentions arbitraires\, de torture et\, pour certains\, d’assassinats. D’après les retours des associations LGBTI en Russie\, le système de répression s’organiserait autour de «camps de détention secrète» créés à cet effet\, dont le principal se situerait dans une ancienne caserne d’Argoun – ville de la banlieue de Grozny\, la capitale tchétchène.
URL:https://www.heteroclite.org/evenement-heteroclite/rassemblement-tchetchenie-lyon
LOCATION:Place de la Comédie\, Lyon\, 69001\, France
END:VEVENT
END:VCALENDAR