BEGIN:VCALENDAR
VERSION:2.0
PRODID:-//Hétéroclite - ECPv5.16.1.1//NONSGML v1.0//EN
CALSCALE:GREGORIAN
METHOD:PUBLISH
X-WR-CALNAME:Hétéroclite
X-ORIGINAL-URL:https://www.heteroclite.org
X-WR-CALDESC:évènements pour Hétéroclite
BEGIN:VTIMEZONE
TZID:Europe/Helsinki
BEGIN:DAYLIGHT
TZOFFSETFROM:+0200
TZOFFSETTO:+0300
TZNAME:EEST
DTSTART:20170326T010000
END:DAYLIGHT
BEGIN:STANDARD
TZOFFSETFROM:+0300
TZOFFSETTO:+0200
TZNAME:EET
DTSTART:20171029T010000
END:STANDARD
END:VTIMEZONE
BEGIN:VEVENT
DTSTART;TZID=Europe/Helsinki:20170928T193000
DTEND;TZID=Europe/Helsinki:20170928T220000
DTSTAMP:20260419T154610
CREATED:20140201T160047Z
LAST-MODIFIED:20180920T085755Z
UID:31346-1506627000-1506636000@www.heteroclite.org
SUMMARY:Répétitions de la chorale À Voix et À Vapeur
DESCRIPTION:La chorale À Voix et À Vapeur (www.avoixetavapeur.org) accueille toute personne désireuse de chanter dans un esprit de convivialité\, mais aussi d’affirmer sa différence.\nÀ voix et à vapeur rassemble environ cent choristes autour d’un répertoire résolument éclectique et donne chaque année un concert dans le cadre de la Quinzaine des Cultures LGBT.
URL:https://www.heteroclite.org/evenement-heteroclite/repetitions-chorale-a-voix-et-a-vapeur-3
LOCATION:Espace Bancel\, 50 rue Bancel\, Lyon 7\, Rhône-Alpes\, 69007
END:VEVENT
END:VCALENDAR