BEGIN:VCALENDAR
VERSION:2.0
PRODID:-//Hétéroclite - ECPv5.16.1.1//NONSGML v1.0//EN
CALSCALE:GREGORIAN
METHOD:PUBLISH
X-WR-CALNAME:Hétéroclite
X-ORIGINAL-URL:https://www.heteroclite.org
X-WR-CALDESC:évènements pour Hétéroclite
BEGIN:VTIMEZONE
TZID:Europe/Helsinki
BEGIN:DAYLIGHT
TZOFFSETFROM:+0200
TZOFFSETTO:+0300
TZNAME:EEST
DTSTART:20180325T010000
END:DAYLIGHT
BEGIN:STANDARD
TZOFFSETFROM:+0300
TZOFFSETTO:+0200
TZNAME:EET
DTSTART:20181028T010000
END:STANDARD
END:VTIMEZONE
BEGIN:VEVENT
DTSTART;TZID=Europe/Helsinki:20180518T190000
DTEND;TZID=Europe/Helsinki:20180518T230000
DTSTAMP:20260425T165607
CREATED:20180516T153909Z
LAST-MODIFIED:20180516T153909Z
UID:51673-1526670000-1526684400@www.heteroclite.org
SUMMARY:Soirée anniversaire de Sophie au Café noir
DESCRIPTION:Niché en plein cœur de la ville\, le Café noir est une institution du milieu gay et lesbien grenoblois qui change d’ambiance à chaque moment de la journée : café le matin\, brasserie conviviale le midi et bar festif le soir. L’établissement vous invite à la soirée anniversaire de Sophie !\nDes apéros lounge y ont lieu le jeudi et des Dj’s s’emparent du Café noir le week-end. Mais\, pour cette soirée spéciale\, c’est Sophie qui sera à l’honneur pour son anniversaire ! \nAu programme : une ambiance\, du son\, des mixs (del fuego @MsKyss)\, un buffet\, un cocktail offert\, de la bonne humeur\,…\nVenez faire un petit tour ! \n 
URL:https://www.heteroclite.org/evenement-heteroclite/soiree-anniversaire-sophie-cafe-noir
LOCATION:Le Café noir\, 68 cours Jean Jaurès\, Grenoble\, Rhône-Alpes\, 38000\, France
END:VEVENT
END:VCALENDAR