BEGIN:VCALENDAR
VERSION:2.0
PRODID:-//Hétéroclite - ECPv5.16.1.1//NONSGML v1.0//EN
CALSCALE:GREGORIAN
METHOD:PUBLISH
X-WR-CALNAME:Hétéroclite
X-ORIGINAL-URL:https://www.heteroclite.org
X-WR-CALDESC:évènements pour Hétéroclite
BEGIN:VTIMEZONE
TZID:Europe/Helsinki
BEGIN:DAYLIGHT
TZOFFSETFROM:+0200
TZOFFSETTO:+0300
TZNAME:EEST
DTSTART:20180325T010000
END:DAYLIGHT
BEGIN:STANDARD
TZOFFSETFROM:+0300
TZOFFSETTO:+0200
TZNAME:EET
DTSTART:20181028T010000
END:STANDARD
END:VTIMEZONE
BEGIN:VEVENT
DTSTART;TZID=Europe/Helsinki:20180512T220000
DTEND;TZID=Europe/Helsinki:20180513T040000
DTSTAMP:20260425T191715
CREATED:20180424T073012Z
LAST-MODIFIED:20180424T075228Z
UID:50986-1526162400-1526184000@www.heteroclite.org
SUMMARY:Première soirée du collectif queer Brûlure au Sonic !
DESCRIPTION:Brûlure est un nouveau collectif rassemblant les créatures de la nuit\, les freaks\, les queers et leur ami.e.s ! Descendante direct des Genital Panic\, la soirée Brûlure est une soirée body-positive\, sex-positive\, anti-raciste et queer as fuck !\nBrûlure c’est du gros son qui tâche au Sonic\, c’est un espace safe dans lequel vous pouvez être fabuleux/se\, c’est une zone de découvertes et de créations multiples\, c’est un chemin de traverse qui vous emmène loin des modèles commerciaux et qui trace sa propre hype. \nLa programmation sera diffusée dans les jours à venir \nVestiaire (pas obligatoire mais vivement conseillé) : 2€ \nAlors pour que la soirée Brûlure reste un espace de gros son qui tâche et d’amour qui colle\, gardez ces quelques lignes en tête : \n– Les comportements racistes\, validistes\, transphobes\, mysogynes\, grossophobes\, irrespectueux et/ou violents : c’est exclusion sans sommation. \n– Le consentement est important ! \n– Des kits de protection pour du Safer Sex (gants\, digues dentaires\, préservatifs\, lubrifiants) seront mis à disposition\, parce que le sexe c’est bien\, safe c’est mieux ! \nPage Facebook de Brûlure 
URL:https://www.heteroclite.org/evenement-heteroclite/soiree-brulure-1st-night-queer-sonic
LOCATION:Le Sonic\, 4 quai des Étroits\, Lyon 5\, Rhône-Alpes\, 69005\, France
END:VEVENT
END:VCALENDAR